BEGIN:VCALENDAR
VERSION:2.0
PRODID:-//ProbatesDaily.com-ForeclosuresDaily.com - ECPv6.15.20//NONSGML v1.0//EN
CALSCALE:GREGORIAN
METHOD:PUBLISH
X-ORIGINAL-URL:https://foreclosuresdaily.com
X-WR-CALDESC:Events for ProbatesDaily.com-ForeclosuresDaily.com
REFRESH-INTERVAL;VALUE=DURATION:PT1H
X-Robots-Tag:noindex
X-PUBLISHED-TTL:PT1H
BEGIN:VTIMEZONE
TZID:America/New_York
BEGIN:DAYLIGHT
TZOFFSETFROM:-0500
TZOFFSETTO:-0400
TZNAME:EDT
DTSTART:20220313T070000
END:DAYLIGHT
BEGIN:STANDARD
TZOFFSETFROM:-0400
TZOFFSETTO:-0500
TZNAME:EST
DTSTART:20221106T060000
END:STANDARD
BEGIN:DAYLIGHT
TZOFFSETFROM:-0500
TZOFFSETTO:-0400
TZNAME:EDT
DTSTART:20230312T070000
END:DAYLIGHT
BEGIN:STANDARD
TZOFFSETFROM:-0400
TZOFFSETTO:-0500
TZNAME:EST
DTSTART:20231105T060000
END:STANDARD
BEGIN:DAYLIGHT
TZOFFSETFROM:-0500
TZOFFSETTO:-0400
TZNAME:EDT
DTSTART:20240310T070000
END:DAYLIGHT
BEGIN:STANDARD
TZOFFSETFROM:-0400
TZOFFSETTO:-0500
TZNAME:EST
DTSTART:20241103T060000
END:STANDARD
END:VTIMEZONE
BEGIN:VEVENT
DTSTART;TZID=America/New_York:20231102T173000
DTEND;TZID=America/New_York:20231102T210000
DTSTAMP:20260421T201510
CREATED:20231021T162815Z
LAST-MODIFIED:20231021T162815Z
UID:46884-1698946200-1698958800@foreclosuresdaily.com
SUMMARY:Central Indiana Real Estate Investors Association (CIREIA)
DESCRIPTION:Brenda Holliday Indiana Representative\nWho are we?\nSupplying the industry’s hottest off-market real estate leads. The majority of our customers have come by referral since 2004. Getting you first on the scene at warp speed with a seller of real estate is paramount. Raw data is cross-referenced and delivered in most states in one day\, giving you the advantage over a competitor. Our mission is to find real estate with actual equity from motivated sellers. Our products include Foreclosure\, Probate\, Pre-probate\, Inheritance\, Divorce\, Eviction\, and Code Enforcement. Us doing the research will save you time\, so you can focus on revenue-generating activities such as wholesaling\, rehabbing\, and flipping properties. Finding you a real estate deal is our mission. Furthermore\, we gauge our success as a company by the success of our customers at the Central Indiana Real Estate Investors Association. \nThe last thing you want is to market to people with old data. We’ve heard horror stories of wasting time and money only to discover the real estate sold months ago. Don’t let it happen to you. \nAre you competing for real estate?\nOff-market listings of homes may be for sale but are not on multiple listing services (MLS). Unfortunately\, circumstances such as Foreclosure and Probate motivate the seller to sell. There may be a financial dilemma or an owner looking to exit from the property quickly. Get wholesale Off-Retail-Market leads off the radar at Central Indiana Real Estate Investors Association. \nWho uses our product? \n\n\n\n\n\nFix and Flip investors\nBrokers and Agents listing source\nWholesalers\nAttorneys growing their practices\nMany more ………….\n\n\n\n\n\n\nRead more here\n 
URL:https://foreclosuresdaily.com/event1/central-indiana-real-estate-investors-association-cireia-33/
LOCATION:Central Indiana Real Estate Investors Association (CIREIA)\, 6767 E Washington St\, Indianapolis\, IN\, 46219\, United States
CATEGORIES:EVENTS
ATTACH;FMTTYPE=image/jpeg:https://foreclosuresdaily.com/wp-content/uploads/2019/11/Brenda-Holliday-e1613601479960.jpg
END:VEVENT
BEGIN:VEVENT
DTSTART;TZID=America/New_York:20231102T183000
DTEND;TZID=America/New_York:20231102T210000
DTSTAMP:20260421T201510
CREATED:20231021T162927Z
LAST-MODIFIED:20231021T162927Z
UID:46887-1698949800-1698958800@foreclosuresdaily.com
SUMMARY:Polk County Estate Investors Association (PCREIA)
DESCRIPTION:  \nTangie Cousins\,Senior Accounts Manager \nPolk County Estate Investors Association (PCREIA) Members using our lists.\nFirstly\, us doing the research will save you time to focus on revenue-generating activities such as wholesaling\, rehabbing\, and flipping properties. Realtors uniquely benefit from using our lists by increasing their listings. Investors find good deals that they otherwise would not have seen. Furthermore\, Attorneys benefit from using our lists by increasing their clients. Secondly\, you will have access to the hottest investing leads nationwide. They are coupled with beating the competition and getting properties with actual equity from motivated sellers. Finally\, gain a competitive advantage. Get to the deal first. Polk County Estate Investors Association (PCREIA) members receive member discounts. We can gauge our success as a company by the success of our clients. \nWho uses our lists?\n\nFix and Flip real estate investors\nReal estate brokers agents in listing lead source\nWholesalers\nEstate attorneys growing their practices\n\n \nRead more here\n 
URL:https://foreclosuresdaily.com/event1/polk-county-estate-investors-association-pcreia-33/
LOCATION:Polk County Estate Investors Association (PCREIA)\, 1515 Williamsburg Square\, Lakeland\, FL\, 33803\, United States
CATEGORIES:EVENTS
ATTACH;FMTTYPE=image/jpeg:https://foreclosuresdaily.com/wp-content/uploads/2019/01/Tangies-Updated-Pic-e1618919526388.jpg
END:VEVENT
BEGIN:VEVENT
DTSTART;TZID=America/New_York:20231102T183000
DTEND;TZID=America/New_York:20231102T210000
DTSTAMP:20260421T201510
CREATED:20231021T163025Z
LAST-MODIFIED:20231021T163025Z
UID:46890-1698949800-1698958800@foreclosuresdaily.com
SUMMARY:Sarasota Estate Investors Association (SREIA)
DESCRIPTION:Joe MontagnaMarketing Director\nWho are we?\nSupplying the industry’s hottest off-market real estate leads. The majority of our customers have come by referral since 2004. Getting you first on the scene at warp speed with a seller of real estate is paramount. Raw data is cross-referenced and delivered in most states in one day\, giving you the advantage over a competitor. Our mission is to find real estate with actual equity from motivated sellers. Our products include Foreclosure\, Probate\, Pre-probate\, Inheritance\, Divorce\, Eviction\, and Code Enforcement. Us doing the research will save you time\, so you can focus on revenue-generating activities such as wholesaling\, rehabbing\, and flipping properties. Finding you a real estate deal is our mission. Furthermore\, we gauge our success as a company by the success of our customers at the Sarasota Estate Investors Association. \nThe last thing you want is to market to people with old data. We’ve heard horror stories of wasting time and money only to discover the real estate sold months ago. Don’t let it happen to you. \nAre you competing for real estate?\nOff-market listings of homes may be for sale but are not on multiple listing services (MLS). Unfortunately\, circumstances such as Foreclosure and Probate motivate the seller to sell. There may be a financial dilemma or an owner looking to exit from the property quickly. Get wholesale Off-Retail-Market leads off the radar at Sarasota Estate Investors Association. \nWho uses our product? \n\n\n\n\n\nFix and Flip investors\nBrokers and Agents listing source\nWholesalers\nAttorneys growing their practices\nMany more ………….\n\n\n\n\n\n\nRead more here\n 
URL:https://foreclosuresdaily.com/event1/sarasota-estate-investors-association-sreia-33/
LOCATION:Sarasota Estate Investors Association\, 2401 Cattlemen Road\, Sarasota\, FL\, 34232\, United States
CATEGORIES:EVENTS
ATTACH;FMTTYPE=image/jpeg:https://foreclosuresdaily.com/wp-content/uploads/2021/06/JOE.jpg
END:VEVENT
END:VCALENDAR