BEGIN:VCALENDAR
VERSION:2.0
PRODID:-//ProbatesDaily.com-ForeclosuresDaily.com - ECPv6.15.20//NONSGML v1.0//EN
CALSCALE:GREGORIAN
METHOD:PUBLISH
X-ORIGINAL-URL:https://foreclosuresdaily.com
X-WR-CALDESC:Events for ProbatesDaily.com-ForeclosuresDaily.com
REFRESH-INTERVAL;VALUE=DURATION:PT1H
X-Robots-Tag:noindex
X-PUBLISHED-TTL:PT1H
BEGIN:VTIMEZONE
TZID:America/New_York
BEGIN:DAYLIGHT
TZOFFSETFROM:-0500
TZOFFSETTO:-0400
TZNAME:EDT
DTSTART:20220313T070000
END:DAYLIGHT
BEGIN:STANDARD
TZOFFSETFROM:-0400
TZOFFSETTO:-0500
TZNAME:EST
DTSTART:20221106T060000
END:STANDARD
BEGIN:DAYLIGHT
TZOFFSETFROM:-0500
TZOFFSETTO:-0400
TZNAME:EDT
DTSTART:20230312T070000
END:DAYLIGHT
BEGIN:STANDARD
TZOFFSETFROM:-0400
TZOFFSETTO:-0500
TZNAME:EST
DTSTART:20231105T060000
END:STANDARD
BEGIN:DAYLIGHT
TZOFFSETFROM:-0500
TZOFFSETTO:-0400
TZNAME:EDT
DTSTART:20240310T070000
END:DAYLIGHT
BEGIN:STANDARD
TZOFFSETFROM:-0400
TZOFFSETTO:-0500
TZNAME:EST
DTSTART:20241103T060000
END:STANDARD
END:VTIMEZONE
BEGIN:VEVENT
DTSTART;TZID=America/New_York:20231107T170000
DTEND;TZID=America/New_York:20231107T210000
DTSTAMP:20260421T201536
CREATED:20231021T160029Z
LAST-MODIFIED:20250316T130712Z
UID:46845-1699376400-1699390800@foreclosuresdaily.com
SUMMARY:Active Community of Real Estate Entrepreneurs (ACRE)
DESCRIPTION:[vc_row][vc_column][vc_column_text] \nJane ZachariasPittsburg Representative \nWho are we?\nSupplying the industry’s hottest off-market real estate leads. Many of our customers have come by referral since 2004. Getting you first on the scene at warp speed with a seller of real estate is what separates us from our competitors. Our data consists of only real estate entering the wholesale market and off the retail grid. Our Products are Code Enforcement\, Divorce\, Eviction\, Foreclosure\, Inheritance\, Probate\, Pre-probate\, and customized data. Doing the research will save you time\, so you can focus on revenue-generating activities such as wholesaling\, rehabbing\, and flipping properties. \nFurthermore\, we gauge our success as a company by the success of our customers. The last thing you want is to market to people with old data. We have heard horror stories of wasting time and money only to discover the real estate sold months ago. Do not let it happen to you. Networking at the Active Community of Real Estate Entrepreneurs (ACRE) \nNew to real estate investing\nInvestors and others in the real estate profession attend meetups and clubs—an excellent resource for networking for new and seasoned investors. Meet our staff and customers at Active Community of Real Estate Entrepreneurs (ACRE). See our calendar of upcoming events near you. \nAre you competing for real estate?\nOff-market listings of homes may be for sale but are not on multiple listing services (MLS). Unfortunately\, circumstances such as Foreclosure and Probate motivate the seller to sell. There may be a financial dilemma or an owner looking to exit the property quickly. Get wholesale Off-Retail-Market leads off the radar at ACRE of Pittsburgh. \nWho uses our product? \n\n\n\n\n\nFix and Flip investors\nBrokers and Realtor listing source\nWholesalers\nAttorneys growing their practices\nMany more ………….\n\n\n\n\n\n\n \nREAD MORE HERE\n \n  \n[/vc_column_text][/vc_column][/vc_row]
URL:https://foreclosuresdaily.com/event1/active-community-of-real-estate-entrepreneurs-acre-2/
LOCATION:ACRE of Pittsburgh\, 3579 Masonic Way\, Pittsburgh\, PA\, 15237\, United States
CATEGORIES:EVENTS
ATTACH;FMTTYPE=image/jpeg:https://foreclosuresdaily.com/wp-content/uploads/2024/03/Jane.jpg
ORGANIZER;CN="IT DEPT":MAILTO:https://foreclosuresdaily.com/event1/crush-probate-with-al-nicoletti-esq/
END:VEVENT
BEGIN:VEVENT
DTSTART;TZID=America/New_York:20231107T173000
DTEND;TZID=America/New_York:20231107T210000
DTSTAMP:20260421T201536
CREATED:20231021T161103Z
LAST-MODIFIED:20231021T161103Z
UID:46853-1699378200-1699390800@foreclosuresdaily.com
SUMMARY:Central Ohio Real Estate Entrepreneurs (COREE)
DESCRIPTION:Michael ReeseCentral Ohio Real Estate EntrepreneursOhio Representative \nWho are we?\nSupplying the industry’s hottest off-market real estate leads. Many of our customers have come by referral since 2004. Getting you first on the scene at warp speed with a seller of real estate is what separates us from our competitors. Our data consists of only real estate entering the wholesale market and off the retail grid. Our Products are Code Enforcement\, Divorce\, Eviction\, Foreclosure\, Inheritance\, Probate\, Pre-probate\, and customized data. Doing the research will save you time\, so you can focus on revenue-generating activities such as wholesaling\, rehabbing\, and flipping properties. \nFurthermore\, we gauge our success as a company by the success of our customers. The last thing you want is to market to people with old data. We have heard horror stories of wasting time and money only to discover the real estate sold months ago. Do not let it happen to you. We are networking at the Community of Real Estate Entrepreneurs (COREE). \nNew to real estate investing\nInvestors and others in the real estate profession attend meetups and clubs—an excellent resource for networking for new and seasoned investors. Meet our staff and customers at Networking at the Community of Real Estate Entrepreneurs (COREE). See our calendar of upcoming events near you. \nAre you competing for real estate?\nOff-market listings of homes may be for sale but are not on multiple listing services (MLS). Unfortunately\, circumstances such as Foreclosure and Probate motivate the seller to sell. There may be a financial dilemma or an owner looking to exit the property quickly. Get wholesale Off-Retail-Market leads off the radar at Networking at the Community of Real Estate Entrepreneurs (COREE). \nWho uses our product? \nFix and Flip investors. \nBrokers and Realtor listing source \nWholesalers \nAttorneys growing their practices \nMany more …………. \n  \n\n 
URL:https://foreclosuresdaily.com/event1/central-ohio-real-estate-entrepreneurs-coree-33/
LOCATION:(COREE) DoubleTree by Hilton Hotel Columbus – Worthington\, 175 Hutchinson Ave\, Columbus\, OH\, 43235\, United States
CATEGORIES:EVENTS
ATTACH;FMTTYPE=image/jpeg:https://foreclosuresdaily.com/wp-content/uploads/2019/07/MICHAEL-REESE-e1613602531190.jpg
END:VEVENT
BEGIN:VEVENT
DTSTART;TZID=America/New_York:20231107T180000
DTEND;TZID=America/New_York:20231107T193000
DTSTAMP:20260421T201536
CREATED:20231021T122738Z
LAST-MODIFIED:20250909T214407Z
UID:46675-1699380000-1699385400@foreclosuresdaily.com
SUMMARY:Meet our Customer and Mentor Justin Todd Short-Term Rentals
DESCRIPTION:[vc_row][vc_column][vc_column_text css=””][vc_row][vc_column width=”1/1″][vc_column_text] \n \n  \n  \n  \nWe are excited to welcome Justin Todd to our monthly webinar. Our customer\, Justin Todd\, is part of the Justin Todd Women’s Real Estate Investors Network (WREIN). Justin is a prominent real estate investor who uses ForeclosuresDaily.com products and refers new investors to us. Holding a Bachelor’s degree in Psychology and Communications from the University of Texas at Tyler\, Justin takes pride in empowering women to achieve financial prosperity. \nJustin specializes in a wide range of real estate transactions. With over 100 successful real estate transactions to his name\, Justin has established a reputation as a trusted and accomplished professional in the industry. \nNovember 7th\, 2023\, at 6 pm EST\n[/vc_column_text][/vc_column][/vc_row]
URL:https://foreclosuresdaily.com/event1/justin-todd-womens-real-estate-investors-network-wrein/
LOCATION:Women’s Real Estate Investors Network
CATEGORIES:Webinar
END:VEVENT
END:VCALENDAR