BEGIN:VCALENDAR
VERSION:2.0
PRODID:-//ProbatesDaily.com-ForeclosuresDaily.com - ECPv6.15.20//NONSGML v1.0//EN
CALSCALE:GREGORIAN
METHOD:PUBLISH
X-WR-CALNAME:ProbatesDaily.com-ForeclosuresDaily.com
X-ORIGINAL-URL:https://foreclosuresdaily.com
X-WR-CALDESC:Events for ProbatesDaily.com-ForeclosuresDaily.com
REFRESH-INTERVAL;VALUE=DURATION:PT1H
X-Robots-Tag:noindex
X-PUBLISHED-TTL:PT1H
BEGIN:VTIMEZONE
TZID:America/Phoenix
BEGIN:STANDARD
TZOFFSETFROM:-0700
TZOFFSETTO:-0700
TZNAME:MST
DTSTART:20220101T000000
END:STANDARD
END:VTIMEZONE
BEGIN:VTIMEZONE
TZID:America/New_York
BEGIN:DAYLIGHT
TZOFFSETFROM:-0500
TZOFFSETTO:-0400
TZNAME:EDT
DTSTART:20220313T070000
END:DAYLIGHT
BEGIN:STANDARD
TZOFFSETFROM:-0400
TZOFFSETTO:-0500
TZNAME:EST
DTSTART:20221106T060000
END:STANDARD
BEGIN:DAYLIGHT
TZOFFSETFROM:-0500
TZOFFSETTO:-0400
TZNAME:EDT
DTSTART:20230312T070000
END:DAYLIGHT
BEGIN:STANDARD
TZOFFSETFROM:-0400
TZOFFSETTO:-0500
TZNAME:EST
DTSTART:20231105T060000
END:STANDARD
BEGIN:DAYLIGHT
TZOFFSETFROM:-0500
TZOFFSETTO:-0400
TZNAME:EDT
DTSTART:20240310T070000
END:DAYLIGHT
BEGIN:STANDARD
TZOFFSETFROM:-0400
TZOFFSETTO:-0500
TZNAME:EST
DTSTART:20241103T060000
END:STANDARD
END:VTIMEZONE
BEGIN:VEVENT
DTSTART;TZID=America/Phoenix:20231219T173000
DTEND;TZID=America/Phoenix:20231219T200000
DTSTAMP:20260421T183646
CREATED:20231118T194715Z
LAST-MODIFIED:20231118T194715Z
UID:51653-1703007000-1703016000@foreclosuresdaily.com
SUMMARY:Phoenix Real Estate Club (PREC)
DESCRIPTION:Matt RicciPhoenix Real Estate ClubPhoenix Representative\nWho are we?\nSupplying the industry’s hottest off-market real estate leads. The majority of our customers have come by referral since 2004. Getting you first on the scene at warp speed with a seller of real estate is paramount. Raw data is cross-referenced and delivered in most states in one day\, giving you the advantage over a competitor. Our mission is to find real estate with actual equity from motivated sellers. Our products include Foreclosure\, Probate\, Pre-probate\, Inheritance\, Divorce\, Eviction\, and Code Enforcement. Us doing the research will save you time\, so you can focus on revenue-generating activities such as wholesaling\, rehabbing\, and flipping properties. Finding you a real estate deal is our mission. Furthermore\, we gauge our success as a company by the success of our customers at the Phoenix Real Estate Club. \nThe last thing you want is to market to people with old data. We’ve heard horror stories of wasting time and money only to discover the real estate sold months ago. Don’t let it happen to you. \nAre you competing for real estate?\nOff-market listings of homes may be for sale but are not on multiple listing services (MLS). Unfortunately\, circumstances such as Foreclosure and Probate motivate the seller to sell. There may be a financial dilemma or an owner looking to exit from the property quickly. Get wholesale Off-Retail-Market leads that are off the radar. \nWho uses our product? \n\n\n\n\n\nFix and Flip investors\nBrokers and Agents listing source\nWholesalers\nAttorneys growing their practices\nMany more ………….\n\n\n\n\n\nRead more here \n \n \n \n \n \n 
URL:https://foreclosuresdaily.com/event1/phoenix-real-estate-club-prec-35/
LOCATION:(PREC) 24th Street Conference Center\, 1841 N 24th St UNIT 10\, Phoenix\, AZ\, 85008\, United States
CATEGORIES:EVENTS
ATTACH;FMTTYPE=image/jpeg:https://foreclosuresdaily.com/wp-content/uploads/2022/01/Matt-Ricci.jpg
END:VEVENT
BEGIN:VEVENT
DTSTART;TZID=America/New_York:20231219T180000
DTEND;TZID=America/New_York:20231219T210000
DTSTAMP:20260421T183646
CREATED:20231118T194358Z
LAST-MODIFIED:20231118T194358Z
UID:51647-1703008800-1703019600@foreclosuresdaily.com
SUMMARY:Wealth Builders Real Estate (REEA)
DESCRIPTION:[vc_row css=”.vc_custom_1697294215421{background-color: #ddc9a8 !important;}”][vc_column][vc_column_text] \nTangie Cousins\,Wealth Builders Real EstateSenior Accounts Manager\nWho are we?\nSupplying the industry’s hottest off-market real estate leads. The majority of our customers have come by referral since 2004. Getting you first on the scene at warp speed with a seller of real estate is paramount. Raw data is cross-referenced and delivered in most states in one day\, giving you the advantage over a competitor. Our mission is to find real estate with actual equity from motivated sellers. Our products include Foreclosure\, Probate\, Pre-probate\, Inheritance\, Divorce\, Eviction\, and Code Enforcement. Us doing the research will save you time\, so you can focus on revenue-generating activities such as wholesaling\, rehabbing\, and flipping properties. Finding you a real estate deal is our mission. Furthermore\, we gauge our success as a company by the success of our customers at Wealth Builders Real Estate (REEA). \nThe last thing you want is to market to people with old data. We’ve heard horror stories of wasting time and money only to discover the real estate sold months ago. Don’t let it happen to you. \nAre you competing for real estate?\nOff-market listings of homes may be for sale but are not on multiple listing services (MLS). Unfortunately\, circumstances such as Foreclosure and Probate motivate the seller to sell. There may be a financial dilemma or an owner looking to exit from the property quickly. Get wholesale Off-Retail-Market leads that are off the radar. \nWho uses our product? \n\n\n\n\n\nFix and Flip investors\nBrokers and Agents listing source\nWholesalers\nAttorneys growing their practices\nMany more ………….\n\n\n\n\n\nRead more here\n  \n \n  \n  \n \n \n[/vc_column_text][/vc_column][/vc_row]
URL:https://foreclosuresdaily.com/event1/wealth-builders-real-estate-reea-34/
LOCATION:Wealth Builders Real Estate (REEA)\, 13498 Walsingham Rd\, Largo\, FL\, 33774\, United States
CATEGORIES:EVENTS
ATTACH;FMTTYPE=image/jpeg:https://foreclosuresdaily.com/wp-content/uploads/2019/01/Tangies-Updated-Pic-e1618919526388.jpg
END:VEVENT
END:VCALENDAR