BEGIN:VCALENDAR
VERSION:2.0
PRODID:-//ProbatesDaily.com-ForeclosuresDaily.com - ECPv6.15.20//NONSGML v1.0//EN
CALSCALE:GREGORIAN
METHOD:PUBLISH
X-WR-CALNAME:ProbatesDaily.com-ForeclosuresDaily.com
X-ORIGINAL-URL:https://foreclosuresdaily.com
X-WR-CALDESC:Events for ProbatesDaily.com-ForeclosuresDaily.com
REFRESH-INTERVAL;VALUE=DURATION:PT1H
X-Robots-Tag:noindex
X-PUBLISHED-TTL:PT1H
BEGIN:VTIMEZONE
TZID:America/New_York
BEGIN:DAYLIGHT
TZOFFSETFROM:-0500
TZOFFSETTO:-0400
TZNAME:EDT
DTSTART:20230312T070000
END:DAYLIGHT
BEGIN:STANDARD
TZOFFSETFROM:-0400
TZOFFSETTO:-0500
TZNAME:EST
DTSTART:20231105T060000
END:STANDARD
BEGIN:DAYLIGHT
TZOFFSETFROM:-0500
TZOFFSETTO:-0400
TZNAME:EDT
DTSTART:20240310T070000
END:DAYLIGHT
BEGIN:STANDARD
TZOFFSETFROM:-0400
TZOFFSETTO:-0500
TZNAME:EST
DTSTART:20241103T060000
END:STANDARD
BEGIN:DAYLIGHT
TZOFFSETFROM:-0500
TZOFFSETTO:-0400
TZNAME:EDT
DTSTART:20250309T070000
END:DAYLIGHT
BEGIN:STANDARD
TZOFFSETFROM:-0400
TZOFFSETTO:-0500
TZNAME:EST
DTSTART:20251102T060000
END:STANDARD
END:VTIMEZONE
BEGIN:VEVENT
DTSTART;TZID=America/New_York:20240116T180000
DTEND;TZID=America/New_York:20240116T193000
DTSTAMP:20260421T165027
CREATED:20231121T161608Z
LAST-MODIFIED:20240116T153109Z
UID:52291-1705428000-1705433400@foreclosuresdaily.com
SUMMARY:One-On-One Real Estate Coach Steven Howell
DESCRIPTION:[vc_row][vc_column][vc_column_text] \n \nWe are excited to welcome Steven Howell to our monthly webinar. Steven is our customer and referral partner and uses our products. One-On-One Real Estate Coach Steven Howell. This is what separates Steven from others. Steven will cover building a profitable real estate investing business from scratch. Steven will discuss the importance of marketing to ForecouresDaily.com’s off-market platform.  \nSteven is known in the real estate industry for taking people by the hand and teaching them the skills of acquiring deeply discounted real estate—more information. \nOne-On-One Real Estate Coach Steven Howell January  16th\, 2024\, at 6 pm EST
URL:https://foreclosuresdaily.com/event1/one-on-one-real-estate-coach-steven-howell/
LOCATION:Brent Daniels\, 2800 N. 24th St.\, Phoenix\, AZ\, 85008\, United States
CATEGORIES:Webinar
END:VEVENT
END:VCALENDAR