BEGIN:VCALENDAR
VERSION:2.0
PRODID:-//ProbatesDaily.com-ForeclosuresDaily.com - ECPv6.15.20//NONSGML v1.0//EN
CALSCALE:GREGORIAN
METHOD:PUBLISH
X-ORIGINAL-URL:https://foreclosuresdaily.com
X-WR-CALDESC:Events for ProbatesDaily.com-ForeclosuresDaily.com
REFRESH-INTERVAL;VALUE=DURATION:PT1H
X-Robots-Tag:noindex
X-PUBLISHED-TTL:PT1H
BEGIN:VTIMEZONE
TZID:America/New_York
BEGIN:DAYLIGHT
TZOFFSETFROM:-0500
TZOFFSETTO:-0400
TZNAME:EDT
DTSTART:20230312T070000
END:DAYLIGHT
BEGIN:STANDARD
TZOFFSETFROM:-0400
TZOFFSETTO:-0500
TZNAME:EST
DTSTART:20231105T060000
END:STANDARD
BEGIN:DAYLIGHT
TZOFFSETFROM:-0500
TZOFFSETTO:-0400
TZNAME:EDT
DTSTART:20240310T070000
END:DAYLIGHT
BEGIN:STANDARD
TZOFFSETFROM:-0400
TZOFFSETTO:-0500
TZNAME:EST
DTSTART:20241103T060000
END:STANDARD
BEGIN:DAYLIGHT
TZOFFSETFROM:-0500
TZOFFSETTO:-0400
TZNAME:EDT
DTSTART:20250309T070000
END:DAYLIGHT
BEGIN:STANDARD
TZOFFSETFROM:-0400
TZOFFSETTO:-0500
TZNAME:EST
DTSTART:20251102T060000
END:STANDARD
END:VTIMEZONE
BEGIN:VEVENT
DTSTART;TZID=America/New_York:20240806T170000
DTEND;TZID=America/New_York:20240806T210000
DTSTAMP:20260421T024918
CREATED:20240723T154855Z
LAST-MODIFIED:20240812T150848Z
UID:70587-1722963600-1722978000@foreclosuresdaily.com
SUMMARY:Active Community of Real Estate Entrepreneurs (ACRE)
DESCRIPTION:Kadia LawrenceRepresentativeActive Community of Real Estate Entrepreneurs (ACRE) \nWho are we?\nWe have been supplying the hottest Off-the-Retail-Grid-Real Estate Leads since 2004. Equally important\, many of our customers come by referral. Our products are real estate entering the wholesale market. Getting you first on the scene at warp speed with a real estate seller separates us from others. Doing the research will save you time and money so that you can focus on activities such as wholesaling\, rehabbing\, and flipping. Furthermore\, we gauge our success as a company by the success of our customers.  \nNetworking at Active Community of Real Estate Entrepreneurs (ACRE)\nA point often overlooked is networking. To begin with\, investors and others in the real estate profession attend real estate meetups and clubs\, which are excellent resources for lining up financing\, contractors\, and realtors for your flip. Meet our staff and customers at a National Real Estate Investors Association (REIA) event near you. \nNew to Real Estate Investing\nIt is essential to realize real estate is competitive with seasoned investors. Are you changing your career? Are you a newbie? Have a Mentor or Coach or Trainer? Ready to find real estate with equity? If yes\, you have come to where many have arrived and are now successful real estate investors. \nActive Community of Real Estate Entrepreneurs (ACRE)\n\nFix and Flip Investor\nBrokers and Agents listing source\nWholesalers\nAttorneys growing their practices\nMany more ………….\n\n \n \n \n \n \nRead more
URL:https://foreclosuresdaily.com/event1/active-community-of-real-estate-entrepreneurs-acre-10/
LOCATION:ACRE of Pittsburgh\, 3579 Masonic Way\, Pittsburgh\, PA\, 15237\, United States
CATEGORIES:EVENTS
END:VEVENT
BEGIN:VEVENT
DTSTART;TZID=America/New_York:20240806T173000
DTEND;TZID=America/New_York:20240806T210000
DTSTAMP:20260421T024918
CREATED:20240723T155248Z
LAST-MODIFIED:20240723T155248Z
UID:70589-1722965400-1722978000@foreclosuresdaily.com
SUMMARY:Central Ohio Real Estate Entrepreneurs (COREE)
DESCRIPTION: \n \n \n \nMichael ReeseRepresentativeCentral Ohio Real Estate Entrepreneurs (COREE)  \n  \nWho are we?\nWe have been supplying the hottest Off-the-Retail-Grid-Real Estate Leads since 2004. Equally important\, many of our customers come by referral. Our products are real estate entering the wholesale market. Getting you first on the scene at warp speed with a real estate seller separates us from others. Doing the research will save you time and money so that you can focus on activities such as wholesaling\, rehabbing\, and flipping. Furthermore\, we gauge our success as a company by the success of our customers.  \nNetworking at Central Ohio Real Estate Entrepreneurs (COREE)\nA point often overlooked is networking. To begin with\, investors and others in the real estate profession attend real estate meetups and clubs\, which are excellent resources for lining up financing\, contractors\, and realtors for your flip. Meet our staff and customers at a National Real Estate Investors Association (REIA) event near you. \nNew to Real Estate Investing\nIt is essential to realize real estate is competitive with seasoned investors. Are you changing your career? Are you a newbie? Have a Mentor or Coach or Trainer? Ready to find real estate with equity? If yes\, you have come to where many have arrived and are now successful real estate investors. \nCentral Ohio Real Estate Entrepreneurs (COREE)\n\nFix and Flip Investor\nBrokers and Agents listing source\nWholesalers\nAttorneys growing their practices\nMany more ………….\n\n \n \n \n \n 
URL:https://foreclosuresdaily.com/event1/central-ohio-real-estate-entrepreneurs-coree-41/
LOCATION:(COREE) DoubleTree by Hilton Hotel Columbus – Worthington\, 175 Hutchinson Ave\, Columbus\, OH\, 43235\, United States
CATEGORIES:EVENTS
END:VEVENT
BEGIN:VEVENT
DTSTART;TZID=America/New_York:20240806T180000
DTEND;TZID=America/New_York:20240806T193000
DTSTAMP:20260421T024918
CREATED:20240305T152819Z
LAST-MODIFIED:20240706T134640Z
UID:67231-1722967200-1722972600@foreclosuresdaily.com
SUMMARY:EQUITYMAX WILL FINANCE YOUR REAL ESTATE FLIP
DESCRIPTION:[vc_row][vc_column width=”1/4″][vc_single_image image=”67232″ img_size=”medium” onclick=”custom_link” css=”” link=”https://www.equitymax.com/”][/vc_column][vc_column width=”3/4″][vc_column_text]  \nGregory Emmer from EquityMax is our featured monthly webinar on August 6\, 2024\, at 6 p.m. EST. The webinar will cover new\, seasoned investors seeking financing other than a bank. Greg is a private money specialist for real estate investors. ForeclosuresDaily has referred EquityMax to our customers needing hard money lenders for over 20 years.[/vc_column_text][/vc_column][/vc_row][vc_row css=”.vc_custom_1709661955143{padding-top: 25px !important;padding-bottom: 25px !important;}”][vc_column width=”1/2″][vc_column_text css=”.vc_custom_1709661624922{padding-right: 50px !important;padding-left: 50px !important;}”] \nREGULAR HARD MONEY LENDER \n\nFormal Application\nBank Statements\nExperience\nConstruction Schedule\nContractor Info / Their Experience\nMORE Bank Statements each month\nFull Appraisal\nFull Survey\n4-6 week closing timeline (if you’re lucky!)\n\n[/vc_column_text][/vc_column][vc_column width=”1/2″][vc_column_text css=”.vc_custom_1709662027276{margin-left: 50px !important;padding-left: 50px !important;}”] \nWHAT EQUITYMAX WILL ASK FOR\n\nPURCHASE\nFully Executed Purchase Contract   OR\nProperty Address / Purchase Price\nREFI\nOriginal Purchase Price & Purchase Date\nProof of Improvement\, if any\nHAVE IT READY\nCredit Report\nComps (not required\, but helpful)\n2-week closing timeline\n\n[/vc_column_text][/vc_column][/vc_row][vc_row][vc_column][vc_raw_html]JTNDc2NyaXB0JTIwdHlwZSUzRCUyN3RleHQlMkZqYXZhc2NyaXB0JTI3JTIwc3JjJTNEJTI3aHR0cHMlM0ElMkYlMkZkZzMyMy5pbmZ1c2lvbnNvZnQuY29tJTJGYXBwJTJGZm9ybSUyRmlmcmFtZSUyRjAxMTQzYWZjMjljN2FhMDBlZDU0YWY3OTNlNThmZDg4JTI3JTNFJTNDJTJGc2NyaXB0JTNF[/vc_raw_html][/vc_column][/vc_row][vc_row css=”.vc_custom_1709661760150{padding-top: 25px !important;padding-bottom: 25px !important;}”][vc_column width=”1/3″][vc_single_image image=”67240″ img_size=”medium” alignment=”center” onclick=”custom_link” link=”https://www.equitymax.com/”][/vc_column][vc_column width=”1/3″][vc_single_image image=”67240″ img_size=”medium” alignment=”center” onclick=”custom_link” link=”https://www.equitymax.com/”][/vc_column][vc_column width=”1/3″][vc_single_image image=”67240″ img_size=”medium” alignment=”center” onclick=”custom_link” link=”https://www.equitymax.com/”][/vc_column][/vc_row] \n\n\n\n\n \n\n\n\n \n\n\n\n\n\n\n\n\n\n\n\n\n\n\nFirst Name *\n\n\n\n\n\n\n\n\n\n\n\n\n\n\n\nLast Name *\n\n\n\n\n\n\n\n\n\n\n\n\n\n\n\nEmail *\n\n\n\n\n\n\n\n\n\n\n\n\n\n\n\nMobile/text *\n\n\n\n\n\n\n\n\n\n\n\n\n\n\n\nHave you been referred? or do you have a discount code?\n\n\n\n\n\n\n\n\n\n\n\n\n \n\n\n\n\nSubmit
URL:https://foreclosuresdaily.com/event1/equitymax-will-finance-your-real-estate-flip/
LOCATION:EquityMax\, 6216 N Federal Hwy\, Fort Lauderdale\, FL\, 33308\, United States
CATEGORIES:Webinar
END:VEVENT
END:VCALENDAR