BEGIN:VCALENDAR
VERSION:2.0
PRODID:-//ProbatesDaily.com-ForeclosuresDaily.com - ECPv6.15.20//NONSGML v1.0//EN
CALSCALE:GREGORIAN
METHOD:PUBLISH
X-ORIGINAL-URL:https://foreclosuresdaily.com
X-WR-CALDESC:Events for ProbatesDaily.com-ForeclosuresDaily.com
REFRESH-INTERVAL;VALUE=DURATION:PT1H
X-Robots-Tag:noindex
X-PUBLISHED-TTL:PT1H
BEGIN:VTIMEZONE
TZID:America/New_York
BEGIN:DAYLIGHT
TZOFFSETFROM:-0500
TZOFFSETTO:-0400
TZNAME:EDT
DTSTART:20230312T070000
END:DAYLIGHT
BEGIN:STANDARD
TZOFFSETFROM:-0400
TZOFFSETTO:-0500
TZNAME:EST
DTSTART:20231105T060000
END:STANDARD
BEGIN:DAYLIGHT
TZOFFSETFROM:-0500
TZOFFSETTO:-0400
TZNAME:EDT
DTSTART:20240310T070000
END:DAYLIGHT
BEGIN:STANDARD
TZOFFSETFROM:-0400
TZOFFSETTO:-0500
TZNAME:EST
DTSTART:20241103T060000
END:STANDARD
BEGIN:DAYLIGHT
TZOFFSETFROM:-0500
TZOFFSETTO:-0400
TZNAME:EDT
DTSTART:20250309T070000
END:DAYLIGHT
BEGIN:STANDARD
TZOFFSETFROM:-0400
TZOFFSETTO:-0500
TZNAME:EST
DTSTART:20251102T060000
END:STANDARD
END:VTIMEZONE
BEGIN:VEVENT
DTSTART;TZID=America/New_York:20240903T170000
DTEND;TZID=America/New_York:20240903T210000
DTSTAMP:20260421T005221
CREATED:20240826T183255Z
LAST-MODIFIED:20240830T150949Z
UID:72872-1725382800-1725397200@foreclosuresdaily.com
SUMMARY:Active Community of Real Estate Entrepreneurs (ACRE)
DESCRIPTION:Kadia LawrenceRepresentativeActive Community of Real Estate Entrepreneurs (ACRE) \nWho are we?\nWe have been supplying the hottest Off-the-Retail-Grid-Real Estate Leads since 2004. Equally important\, many of our customers come by referral. Our products are real estate entering the wholesale market. Getting you first on the scene at warp speed with a real estate seller separates us from others. Doing the research will save you time and money so that you can focus on activities such as wholesaling\, rehabbing\, and flipping. Furthermore\, we gauge our success as a company by the success of our customers.  \nNetworking at Active Community of Real Estate Entrepreneurs (ACRE)\nA point often overlooked is networking. To begin with\, investors and others in the real estate profession attend real estate meetups and clubs\, which are excellent resources for lining up financing\, contractors\, and realtors for your flip. Meet our staff and customers at a National Real Estate Investors Association (REIA) event near you. \nNew to Real Estate Investing\nReal estate is competitive with seasoned investors. Are you changing your career? Are you a newbie? Do you have a Mentor\, coach\, or Trainer? Are you ready to find real estate with equity? If yes\, you have come to where many have arrived and are now successful real estate investors. \nActive Community of Real Estate Entrepreneurs (ACRE)\n\nFix and Flip Investor\nBrokers and Agents listing source\nWholesalers\nAttorneys growing their practices\nMany more ………….\n\n \n \n \n \n \nRead more
URL:https://foreclosuresdaily.com/event1/active-community-of-real-estate-entrepreneurs-acre-11/
LOCATION:ACRE of Pittsburgh\, 3579 Masonic Way\, Pittsburgh\, PA\, 15237\, United States
CATEGORIES:EVENTS
END:VEVENT
BEGIN:VEVENT
DTSTART;TZID=America/New_York:20240903T173000
DTEND;TZID=America/New_York:20240903T210000
DTSTAMP:20260421T005221
CREATED:20240826T183649Z
LAST-MODIFIED:20240923T181944Z
UID:72874-1725384600-1725397200@foreclosuresdaily.com
SUMMARY:Central Ohio Real Estate Entrepreneurs (COREE)
DESCRIPTION: \n \n \n \nMichael ReeseRepresentativeCentral Ohio Real Estate Entrepreneurs (COREE)  \n  \nWho are we?\nWe have been supplying the hottest Off-the-Retail-Grid-Real Estate Leads since 2004. Equally important\, many of our customers come by referral. Our products are real estate entering the wholesale market. Getting you first on the scene at warp speed with a real estate seller separates us from others. Doing the research will save you time and money so that you can focus on activities such as wholesaling\, rehabbing\, and flipping. Furthermore\, we gauge our success as a company by the success of our customers.  \nNetworking at Central Ohio Real Estate Entrepreneurs (COREE)\nA point often overlooked is networking. To begin with\, investors and others in the real estate profession attend real estate meetups and clubs\, which are excellent resources for lining up financing\, contractors\, and realtors for your flip. Meet our staff and customers at a National Real Estate Investors Association (REIA) event near you. \nNew to Real Estate Investing\nIt is essential to realize real estate is competitive with seasoned investors. Are you changing your career? Are you a newbie? Have a Mentor or Coach or Trainer? Ready to find real estate with equity? If yes\, you have come to where many have arrived and are now successful real estate investors. \nCentral Ohio Real Estate Entrepreneurs (COREE)\n\nFix and Flip Investor\nBrokers and Agents listing source\nWholesalers\nAttorneys growing their practices\nMany more ………….\n\n \n \n \n \n 
URL:https://foreclosuresdaily.com/event1/central-ohio-real-estate-entrepreneurs-coree-42/
LOCATION:Ohio Brewing Company\, 421 E 2nd Ave\, Columbus\, 43201\, United States
CATEGORIES:EVENTS
END:VEVENT
BEGIN:VEVENT
DTSTART;TZID=America/New_York:20240903T180000
DTEND;TZID=America/New_York:20240903T193000
DTSTAMP:20260421T005221
CREATED:20240228T182450Z
LAST-MODIFIED:20240830T153241Z
UID:66795-1725386400-1725391800@foreclosuresdaily.com
SUMMARY:Sold 25 Properties with Probate Leads. Meet our Customer Carolynn Castillo
DESCRIPTION:  \n  \n  \nWe are excited to welcome our customer\, Carolynn Castillo\, to our monthly webinar. \nCarolynn is the Team Leader of Absolute Top Dollar with EXP Realty. She specializes in selling properties through the probate process and enjoys sharing her journey and knowledge of probate on her YouTube Channel\, Absolute Top Dollar! \nCarolynn has been a licensed Realtor since she was 18 years old! She has built her business on prospecting over the phone! She started calling For Rent By Owners to get rental listings\, then neighborhood cold calls for residential home listings. Now\, her favorite calls are to Probate leads\, which generate the best of both worlds: listings to sell and investment properties to buy! Carolynn listed & sold 25 properties and personally bought & sold four fix & flip properties that were all generated from our probate leads! \nShe has mastered the art of converting phone calls into real estate deals! In this webinar\, Carolynn will teach you the exact script she uses to convert these leads into real estate deals & how you\, too\, can create a whole business around the niche of probate! \nSeptember 3\, 2024\, at 6 pm EST  \n\n\n\n\n\n  \n  \n  \n  \n \n\n \n\n\n\n\n\n\n\n\n\n\n\n\n\nFirst Name *\n\n\n\n\n\n\n\n\n\n\n\nLast Name *\n\n\n\n\n\n\n\n\n\n\n\nEmail *\n\n\n\n\n\n\n\n\n\n\n\nMobile/text *\n\n\n\n\n\n\n\n\n\n\n\nHave you been referred? Or do you have a discount code?\n\n\n\n\n\n\n\n\n\n\n\nSubmit
URL:https://foreclosuresdaily.com/event1/carolynn-castillo-realtor-investor/
LOCATION:Webinar\, 4604 49th Street N Suite 1017\, Saint Petersburg\, FL\, 33709\, United States
CATEGORIES:Webinar
END:VEVENT
END:VCALENDAR