BEGIN:VCALENDAR
VERSION:2.0
PRODID:-//ProbatesDaily.com-ForeclosuresDaily.com - ECPv6.15.20//NONSGML v1.0//EN
CALSCALE:GREGORIAN
METHOD:PUBLISH
X-ORIGINAL-URL:https://foreclosuresdaily.com
X-WR-CALDESC:Events for ProbatesDaily.com-ForeclosuresDaily.com
REFRESH-INTERVAL;VALUE=DURATION:PT1H
X-Robots-Tag:noindex
X-PUBLISHED-TTL:PT1H
BEGIN:VTIMEZONE
TZID:America/New_York
BEGIN:DAYLIGHT
TZOFFSETFROM:-0500
TZOFFSETTO:-0400
TZNAME:EDT
DTSTART:20230312T070000
END:DAYLIGHT
BEGIN:STANDARD
TZOFFSETFROM:-0400
TZOFFSETTO:-0500
TZNAME:EST
DTSTART:20231105T060000
END:STANDARD
BEGIN:DAYLIGHT
TZOFFSETFROM:-0500
TZOFFSETTO:-0400
TZNAME:EDT
DTSTART:20240310T070000
END:DAYLIGHT
BEGIN:STANDARD
TZOFFSETFROM:-0400
TZOFFSETTO:-0500
TZNAME:EST
DTSTART:20241103T060000
END:STANDARD
BEGIN:DAYLIGHT
TZOFFSETFROM:-0500
TZOFFSETTO:-0400
TZNAME:EDT
DTSTART:20250309T070000
END:DAYLIGHT
BEGIN:STANDARD
TZOFFSETFROM:-0400
TZOFFSETTO:-0500
TZNAME:EST
DTSTART:20251102T060000
END:STANDARD
END:VTIMEZONE
BEGIN:VEVENT
DTSTART;TZID=America/New_York:20240918T180000
DTEND;TZID=America/New_York:20240918T200000
DTSTAMP:20260421T005223
CREATED:20240826T195643Z
LAST-MODIFIED:20240918T131340Z
UID:72892-1726682400-1726689600@foreclosuresdaily.com
SUMMARY:Southwest Florida Real Estate Investment Association (SWFL)
DESCRIPTION: \n \n \n \n  \nJoe MontagnaRepresentativeSouthwest Florida Real Estate Investment Association (SWFL)  \n  \nWho are we?\nWe have been supplying the hottest Off-the-Retail-Grid-Real Estate Leads since 2004. Equally important\, many of our customers come by referral. Our products are real estate entering the wholesale market. Getting you first on the scene at warp speed with a real estate seller separates us from others. Doing the research will save you time and money so that you can focus on activities such as wholesaling\, rehabbing\, and flipping. Furthermore\, we gauge our success as a company by the success of our customers.  \nNetworking at Southwest Florida Real Estate Investment Association (SWFL)\nA point often overlooked is networking. To begin with\, investors and others in the real estate profession attend real estate meetups and clubs\, which are excellent resources for lining up financing\, contractors\, and realtors for your flip. Meet our staff and customers at a National Real Estate Investors Association (REIA) event near you. \nNew to Real Estate Investing\nReal estate is competitive with seasoned investors. Are you changing your career? Are you a newbie? Do you have a mentor\, coach\, or trainer? Are you ready to find real estate with equity? If yes\, you have come to where many have arrived and are now successful real estate investors. \nSouthwest Florida Real Estate Investment Association (SWFL)\n\nFix and Flip Investor\nBrokers and Agents listing source\nWholesalers\nAttorneys growing their practices\nMany more ………….\n\n \n \n \n \n \nRead more
URL:https://foreclosuresdaily.com/event1/southwest-florida-real-estate-investment-association-swfl-41/
LOCATION:(SWFLREIA) Three Fishermen Seafood Restaurant\, 13021 N Cleveland Ave\, Fort Myers\, FL\, 33903\, United States
CATEGORIES:EVENTS
END:VEVENT
BEGIN:VEVENT
DTSTART;TZID=America/New_York:20240918T183000
DTEND;TZID=America/New_York:20240918T210000
DTSTAMP:20260421T005223
CREATED:20240826T182117Z
LAST-MODIFIED:20240826T182117Z
UID:72870-1726684200-1726693200@foreclosuresdaily.com
SUMMARY:Sarasota Estate Investors Association (SREIA)
DESCRIPTION: \n \n \n \nJoe MontagnaRepresentativeSarasota Estate Investors Association (SREIA) \n  \nWho are we?\nWe have been supplying the hottest Off-the-Retail-Grid-Real Estate Leads since 2004. Equally important\, many of our customers come by referral. Our products are real estate entering the wholesale market. Getting you first on the scene at warp speed with a real estate seller separates us from others. Doing the research will save you time and money so that you can focus on activities such as wholesaling\, rehabbing\, and flipping. Furthermore\, we gauge our success as a company by the success of our customers. Charles Blair-The Real Deal \nNetworking at Sarasota Estate Investors Association (SREIA)\nA point often overlooked is networking. To begin with\, investors and others in the real estate profession attend real estate meetups and clubs\, which are excellent resources for lining up financing\, contractors\, and realtors for your flip. Meet our staff and customers at a National Real Estate Investors Association (REIA) event near you. \nNew to Real Estate Investing\nIt is essential to realize real estate is competitive with seasoned investors. Are you changing your career? Are you a newbie? Have a Mentor or Coach or Trainer? Ready to find real estate with equity? If yes\, you have come to where many have arrived and are now successful real estate investors. \nSarasota Estate Investors Association (SREIA)\n\nFix and Flip Investor\nBrokers and Agents listing source\nWholesalers\nAttorneys growing their practices\nMany more ………….\n\n \n \n \n \n \nRead more
URL:https://foreclosuresdaily.com/event1/sarasota-estate-investors-association-sreia-43/
LOCATION:Sarasota Estate Investors Association\, 2401 Cattlemen Road\, Sarasota\, FL\, 34232\, United States
CATEGORIES:EVENTS
END:VEVENT
END:VCALENDAR