BEGIN:VCALENDAR
VERSION:2.0
PRODID:-//ProbatesDaily.com-ForeclosuresDaily.com - ECPv6.15.20//NONSGML v1.0//EN
CALSCALE:GREGORIAN
METHOD:PUBLISH
X-WR-CALNAME:ProbatesDaily.com-ForeclosuresDaily.com
X-ORIGINAL-URL:https://foreclosuresdaily.com
X-WR-CALDESC:Events for ProbatesDaily.com-ForeclosuresDaily.com
REFRESH-INTERVAL;VALUE=DURATION:PT1H
X-Robots-Tag:noindex
X-PUBLISHED-TTL:PT1H
BEGIN:VTIMEZONE
TZID:America/New_York
BEGIN:DAYLIGHT
TZOFFSETFROM:-0500
TZOFFSETTO:-0400
TZNAME:EDT
DTSTART:20230312T070000
END:DAYLIGHT
BEGIN:STANDARD
TZOFFSETFROM:-0400
TZOFFSETTO:-0500
TZNAME:EST
DTSTART:20231105T060000
END:STANDARD
BEGIN:DAYLIGHT
TZOFFSETFROM:-0500
TZOFFSETTO:-0400
TZNAME:EDT
DTSTART:20240310T070000
END:DAYLIGHT
BEGIN:STANDARD
TZOFFSETFROM:-0400
TZOFFSETTO:-0500
TZNAME:EST
DTSTART:20241103T060000
END:STANDARD
BEGIN:DAYLIGHT
TZOFFSETFROM:-0500
TZOFFSETTO:-0400
TZNAME:EDT
DTSTART:20250309T070000
END:DAYLIGHT
BEGIN:STANDARD
TZOFFSETFROM:-0400
TZOFFSETTO:-0500
TZNAME:EST
DTSTART:20251102T060000
END:STANDARD
END:VTIMEZONE
BEGIN:VEVENT
DTSTART;TZID=America/New_York:20241008T173000
DTEND;TZID=America/New_York:20241008T193000
DTSTAMP:20260420T230821
CREATED:20240923T182711Z
LAST-MODIFIED:20240923T182711Z
UID:74970-1728408600-1728415800@foreclosuresdaily.com
SUMMARY:Central Florida Realty Investors (CFRI)
DESCRIPTION: \n \n \nJoe MontagnaRepresentativeCentral Florida Realty Investors (CFRI)\n  \nWho are we?\nWe have been supplying the hottest Off-the-Retail-Grid-Real Estate Leads since 2004. Equally important\, many of our customers come by referral. Our products are real estate entering the wholesale market. Getting you first on the scene at warp speed with a real estate seller separates us from others. Doing the research will save you time and money so that you can focus on activities such as wholesaling\, rehabbing\, and flipping. Furthermore\, we gauge our success as a company by the success of our customers.  \nNetworking at Central Florida Realty Investors (CFRI)\nA point often overlooked is networking. To begin with\, investors and others in the real estate profession attend real estate meetups and clubs\, which are excellent resources for lining up financing\, contractors\, and realtors for your flip. Meet our staff and customers at a National Real Estate Investors Association (REIA) event near you. \nNew to Real Estate Investing\nReal estate is competitive with seasoned investors. Are you changing your career? Are you a newbie? Do you have a Mentor\, coach\, or Trainer? Are you ready to find real estate with equity? If yes\, you have come to where many have arrived and are now successful real estate investors. \nCentral Florida Realty Investors (CFRI)\n\nFix and Flip Investor\nBrokers and Agents listing source\nWholesalers\nAttorneys growing their practices\nMany more ………….\n\n \n \n \n \n \nRead more
URL:https://foreclosuresdaily.com/event1/central-florida-realty-investors-cfri-40/
LOCATION:Central Florida Realty Investors\, 2800 N Orange Ave\, ORLANDO\, FL\, 32804\, United States
CATEGORIES:EVENTS
END:VEVENT
BEGIN:VEVENT
DTSTART;TZID=America/New_York:20241008T180000
DTEND;TZID=America/New_York:20241008T190000
DTSTAMP:20260420T230822
CREATED:20240614T130000Z
LAST-MODIFIED:20241009T181344Z
UID:69087-1728410400-1728414000@foreclosuresdaily.com
SUMMARY:Paula Taylor 20 years of experience working as a Realtor\, Investor\, and Real Estate Advisor
DESCRIPTION:Meet our customer\, Atlanta realtor Ms. Paula Taylor \nA wise philosopher once said\, “What is the essence of life? To serve others and\nto do good.” I truly believe helping others achieve their dreams helps us to\nachieve ours. Leveraging my experience in the business world and my love for\npeople\, I epitomize integrity\, dedication\, and hard work in endeavors. \nI’m a client-service-oriented real estate agent who helps buyers\, sellers\, and\ninvestors in Georgia. With over 20 years of experience working as a REALTOR®\,\ninvestor\, and real estate advisor in the real estate industry\, I’m well-qualified to\nsupport those looking to purchase a new home. My passion for real\nestate is fueled by my desire to help clients find their dream homes. After\nearning a Bachelor’s Degree in Economics from Spelman College and a master’s\nDegree in Finance and Marketing from Kellogg School of Business at Northwestern\nUniversity\, I began a career in finance. Later\, I realized that my friendly nature\nwas better suited to a real estate career. \nMy love for real estate began early; my first experience was working for\na family-owned real estate company at 13. I also assisted with my mother’s real\nestate appraisal business. In this experience\, I developed my strong work ethic\nand learned the basic skills to begin my career. During my first year as\na real estate agent\, I sold 22 homes and was highlighted in Rising Star Atlanta\,\nan Atlanta real estate magazine. After my initial success\, I have continued to\nrank among the top 5% of agents in sales volume. After being established as a\nstar in my field\, Hollywood came knocking at my door\, and I was featured in an\nepisode of HGTV’s House Hunter; in addition to selling real estate\, I value\nspending time with my family and friends\, traveling\, and indulging in my high-end\nfashion addiction \nI attribute my success to knowing the markets\, understanding contracts\, and\nalways placing my client’s needs first. I differentiate myself from others by\nhelping homeowners sell their homes as quickly as possible at the\nhighest value. I achieve this by properly setting the price\, presenting the home\nto the marketplace in the best light\, aggressively navigating my sellers\nthrough contract negotiations and inspections\, and handling title and appraisal\nissues when they arise. There are a lot of great agents\, but I’m the most capable\nagent for selling your home! I believe my purpose is to be of service to others\nand to sell real estate properties. \nOctober 8\, 2024\, at 6 pm EST. \n[vc_row][vc_column][/vc_column][/vc_row] \n\n\n\n\n \n\n \n\n\n\n\n\n\n\n\n\n\n\n\n\nFirst Name *\n\n\n\n\n\n\n\n\n\n\n\nLast Name *\n\n\n\n\n\n\n\n\n\n\n\nEmail *\n\n\n\n\n\n\n\n\n\n\n\nMobile/text *\n\n\n\n\n\n\n\n\n\n\n\nHave you been referred? or do you have a discount code?\n\n\n\n\n\n\n\n\n\n\n\nSubmit
URL:https://foreclosuresdaily.com/event1/atlanta-realtor-paula-taylor/
LOCATION:Webinar\, 4604 49th Street N Suite 1017\, Saint Petersburg\, FL\, 33709\, United States
CATEGORIES:Webinar
ORGANIZER;CN="IT DEPT":MAILTO:https://foreclosuresdaily.com/event1/crush-probate-with-al-nicoletti-esq/
END:VEVENT
END:VCALENDAR