BEGIN:VCALENDAR
VERSION:2.0
PRODID:-//ProbatesDaily.com-ForeclosuresDaily.com - ECPv6.15.20//NONSGML v1.0//EN
CALSCALE:GREGORIAN
METHOD:PUBLISH
X-WR-CALNAME:ProbatesDaily.com-ForeclosuresDaily.com
X-ORIGINAL-URL:https://foreclosuresdaily.com
X-WR-CALDESC:Events for ProbatesDaily.com-ForeclosuresDaily.com
REFRESH-INTERVAL;VALUE=DURATION:PT1H
X-Robots-Tag:noindex
X-PUBLISHED-TTL:PT1H
BEGIN:VTIMEZONE
TZID:America/New_York
BEGIN:DAYLIGHT
TZOFFSETFROM:-0500
TZOFFSETTO:-0400
TZNAME:EDT
DTSTART:20230312T070000
END:DAYLIGHT
BEGIN:STANDARD
TZOFFSETFROM:-0400
TZOFFSETTO:-0500
TZNAME:EST
DTSTART:20231105T060000
END:STANDARD
BEGIN:DAYLIGHT
TZOFFSETFROM:-0500
TZOFFSETTO:-0400
TZNAME:EDT
DTSTART:20240310T070000
END:DAYLIGHT
BEGIN:STANDARD
TZOFFSETFROM:-0400
TZOFFSETTO:-0500
TZNAME:EST
DTSTART:20241103T060000
END:STANDARD
BEGIN:DAYLIGHT
TZOFFSETFROM:-0500
TZOFFSETTO:-0400
TZNAME:EDT
DTSTART:20250309T070000
END:DAYLIGHT
BEGIN:STANDARD
TZOFFSETFROM:-0400
TZOFFSETTO:-0500
TZNAME:EST
DTSTART:20251102T060000
END:STANDARD
END:VTIMEZONE
BEGIN:VEVENT
DTSTART;TZID=America/New_York:20241114T173000
DTEND;TZID=America/New_York:20241114T203000
DTSTAMP:20260420T210754
CREATED:20241027T145920Z
LAST-MODIFIED:20241027T145920Z
UID:75277-1731605400-1731616200@foreclosuresdaily.com
SUMMARY:Jacksonville Real Estate Investors Association (JAXREIA)
DESCRIPTION:  \n\n \n \nAngela HernandezAccounts managerJacksonville Real Estate Investors Association (JAXREIA) \n  \nWho are we?\nWe have been supplying the hottest Off-the-Retail-Grid-Real Estate Leads since 2004. Equally important\, many of our customers come by referral. Our products are real estate entering the wholesale market. Getting you first on the scene at warp speed with a real estate seller separates us from others. Doing the research will save you time and money so that you can focus on activities such as wholesaling\, rehabbing\, and flipping. Furthermore\, we gauge our success as a company by the success of our customers.  \nNetworking at Jacksonville Real Estate Investors Association (JAXREIA)\nA point often overlooked is networking. To begin with\, investors and others in the real estate profession attend real estate meetups and clubs\, which are excellent resources for lining up financing\, contractors\, and realtors for your flip. Meet our staff and customers at a National Real Estate Investors Association (REIA) event near you. \nNew Investors attend the Jacksonville Real Estate Investors Association. \nIt is essential to realize real estate is competitive with seasoned investors. Are you changing your career? Are you a newbie? Have a Mentor or Coach or Trainer? Ready to find real estate with equity? If yes\, you have come to where many have arrived and are now successful real estate investors. \nJacksonville Real Estate Investors Association (JAXREIA)\n\nFix and Flip Investor\nBrokers and Agents listing source\nWholesalers\nAttorneys growing their practices\nMany more ………….\n\n \n \n \n \n \nRead more \n 
URL:https://foreclosuresdaily.com/event1/jacksonville-real-estate-investors-association-jaxreia-45/
LOCATION:(JAXREIA) Marriott Hotel\, 4670 Salisbury Road\, Jacksonville\, FL\, 32256\, United States
CATEGORIES:EVENTS
END:VEVENT
BEGIN:VEVENT
DTSTART;TZID=America/New_York:20241114T173000
DTEND;TZID=America/New_York:20241114T203000
DTSTAMP:20260420T210754
CREATED:20241027T150151Z
LAST-MODIFIED:20241027T150151Z
UID:75281-1731605400-1731616200@foreclosuresdaily.com
SUMMARY:Greater Orlando Real Estate Investor Association (GOREIA)
DESCRIPTION:  \n\n \n \n \n \nJoe Montagna\, Marketing DirectorGreater Orlando Real Estate Investor Association (GOREIA)  \n  \nWho are we?\nWe have been supplying the hottest Off-the-Retail-Grid-Real Estate Leads since 2004. Equally important\, many of our customers come by referral. Our products are real estate entering the wholesale market. Getting you first on the scene at warp speed with a real estate seller separates us from others. Doing the research will save you time and money so that you can focus on activities such as wholesaling\, rehabbing\, and flipping. Furthermore\, we gauge our success as a company by the success of our customers.  \nNetworking at Greater Orlando Real Estate Investor Association (GOREIA)\nA point often overlooked is networking. To begin with\, investors and others in the real estate profession attend real estate meetups and clubs\, which are excellent resources for lining up financing\, contractors\, and realtors for your flip. Meet our staff and customers at a National Real Estate Investors Association (REIA) event near you. \nNew Investors attend the Greater Orlando Real Estate Investor Association.\nReal estate is competitive with seasoned investors. Are you changing your career? Are you a newbie? Do you have a mentor\, coach\, or trainer? Are you ready to find real estate with equity? If yes\, you have come to where many have arrived and are now successful real estate investors. \nGreater Orlando Real Estate Investor Association (GOREIA)\n\nFix and Flip Investor\nBrokers and Agents listing source\nWholesalers\nAttorneys growing their practices\nMany more ………….\n\n \n \n \n \n \nRead more \n 
URL:https://foreclosuresdaily.com/event1/greater-orlando-real-estate-investor-association-goreia-46/
LOCATION:(GOREIA)\, 1021 Douglas Ave\, Altamonte Springs\, FL\, 32714\, United States
CATEGORIES:EVENTS
END:VEVENT
BEGIN:VEVENT
DTSTART;TZID=America/New_York:20241114T173000
DTEND;TZID=America/New_York:20241114T210000
DTSTAMP:20260420T210754
CREATED:20241027T145446Z
LAST-MODIFIED:20241027T145446Z
UID:75271-1731605400-1731618000@foreclosuresdaily.com
SUMMARY:Central Ohio Real Estate Entrepreneurs (COREE)
DESCRIPTION: \n \n \n \nMichael ReeseRepresentativeCentral Ohio Real Estate Entrepreneurs (COREE)  \n  \nWho are we?\nWe have been supplying the hottest Off-the-Retail-Grid-Real Estate Leads since 2004. Equally important\, many of our customers come by referral. Our products are real estate entering the wholesale market. Getting you first on the scene at warp speed with a real estate seller separates us from others. Doing the research will save you time and money so that you can focus on activities such as wholesaling\, rehabbing\, and flipping. Furthermore\, we gauge our success as a company by the success of our customers.  \nNetworking at Central Ohio Real Estate Entrepreneurs (COREE)\nA point often overlooked is networking. To begin with\, investors and others in the real estate profession attend real estate meetups and clubs\, which are excellent resources for lining up financing\, contractors\, and realtors for your flip. Meet our staff and customers at a National Real Estate Investors Association (REIA) event near you. \nNew to Real Estate Investing\nIt is essential to realize real estate is competitive with seasoned investors. Are you changing your career? Are you a newbie? Have a Mentor or Coach or Trainer? Ready to find real estate with equity? If yes\, you have come to where many have arrived and are now successful real estate investors. \nCentral Ohio Real Estate Entrepreneurs (COREE)\n\nFix and Flip Investor\nBrokers and Agents listing source\nWholesalers\nAttorneys growing their practices\nMany more ………….\n\n \n \n \n \n 
URL:https://foreclosuresdaily.com/event1/central-ohio-real-estate-entrepreneurs-coree-44/
LOCATION:Ohio Brewing Company\, 421 E 2nd Ave\, Columbus\, 43201\, United States
CATEGORIES:EVENTS
END:VEVENT
BEGIN:VEVENT
DTSTART;TZID=America/New_York:20241114T180000
DTEND;TZID=America/New_York:20241114T210000
DTSTAMP:20260420T210754
CREATED:20241027T145136Z
LAST-MODIFIED:20241027T145136Z
UID:75267-1731607200-1731618000@foreclosuresdaily.com
SUMMARY:Tampa Real Estate Investors Alliance (Tampa REIA)
DESCRIPTION: \n \n \n \nTangie CousinsRepresentativeTampa Real Estate Investors Alliance (Tampa REIA) \n  \nWho are we?\nWe have been supplying the hottest Off-the-Retail-Grid-Real Estate Leads since 2004. Equally important\, many of our customers come by referral. Our products are real estate entering the wholesale market. Getting you first on the scene at warp speed with a real estate seller separates us from others. Doing the research will save you time and money so that you can focus on activities such as wholesaling\, rehabbing\, and flipping. Furthermore\, we gauge our success as a company by the success of our customers.  \nNetworking at Tampa Real Estate Investors Alliance (Tampa REIA)\nA point often overlooked is networking. To begin with\, investors and others in the real estate profession attend real estate meetups and clubs\, which are excellent resources for lining up financing\, contractors\, and realtors for your flip. Meet our staff and customers at a National Real Estate Investors Association (REIA) event near you. \nNew to Real Estate Investing\nIt is essential to realize real estate is competitive with seasoned investors. Are you changing your career? Are you a newbie? Have a Mentor or Coach or Trainer? Ready to find real estate with equity? If yes\, you have come to where many have arrived and are now successful real estate investors. \nTampa Real Estate Investors Alliance (Tampa REIA)\n\nFix and Flip Investor\nBrokers and Agents listing source\nWholesalers\nAttorneys growing their practices\nMany more ………….\n\n \n \n \n \n \nRead more
URL:https://foreclosuresdaily.com/event1/tampa-real-estate-investors-alliance-tampa-reia-43/
LOCATION:Tampa Real Estate Investors Alliance (Tampa REIA)\, 1200 N Westshore Blvd\, Tampa\, FL\, 33607\, United States
CATEGORIES:EVENTS
END:VEVENT
END:VCALENDAR