BEGIN:VCALENDAR
VERSION:2.0
PRODID:-//ProbatesDaily.com-ForeclosuresDaily.com - ECPv6.15.20//NONSGML v1.0//EN
CALSCALE:GREGORIAN
METHOD:PUBLISH
X-ORIGINAL-URL:https://foreclosuresdaily.com
X-WR-CALDESC:Events for ProbatesDaily.com-ForeclosuresDaily.com
REFRESH-INTERVAL;VALUE=DURATION:PT1H
X-Robots-Tag:noindex
X-PUBLISHED-TTL:PT1H
BEGIN:VTIMEZONE
TZID:America/New_York
BEGIN:DAYLIGHT
TZOFFSETFROM:-0500
TZOFFSETTO:-0400
TZNAME:EDT
DTSTART:20230312T070000
END:DAYLIGHT
BEGIN:STANDARD
TZOFFSETFROM:-0400
TZOFFSETTO:-0500
TZNAME:EST
DTSTART:20231105T060000
END:STANDARD
BEGIN:DAYLIGHT
TZOFFSETFROM:-0500
TZOFFSETTO:-0400
TZNAME:EDT
DTSTART:20240310T070000
END:DAYLIGHT
BEGIN:STANDARD
TZOFFSETFROM:-0400
TZOFFSETTO:-0500
TZNAME:EST
DTSTART:20241103T060000
END:STANDARD
BEGIN:DAYLIGHT
TZOFFSETFROM:-0500
TZOFFSETTO:-0400
TZNAME:EDT
DTSTART:20250309T070000
END:DAYLIGHT
BEGIN:STANDARD
TZOFFSETFROM:-0400
TZOFFSETTO:-0500
TZNAME:EST
DTSTART:20251102T060000
END:STANDARD
END:VTIMEZONE
BEGIN:VEVENT
DTSTART;TZID=America/New_York:20241203T170000
DTEND;TZID=America/New_York:20241203T210000
DTSTAMP:20260420T192042
CREATED:20241121T112944Z
LAST-MODIFIED:20241121T112944Z
UID:75323-1733245200-1733259600@foreclosuresdaily.com
SUMMARY:Active Community of Real Estate Entrepreneurs (ACRE)
DESCRIPTION:  \nKadia LawrenceRepresentativeActive Community of Real Estate Entrepreneurs (ACRE) \nWho are we?\nWe have been supplying the hottest Off-the-Retail-Grid-Real Estate Leads since 2004. Equally important\, many of our customers come by referral. Our products are real estate entering the wholesale market. Getting you first on the scene at warp speed with a real estate seller separates us from others. Doing the research will save you time and money so that you can focus on activities such as wholesaling\, rehabbing\, and flipping. Furthermore\, we gauge our success as a company by the success of our customers.  \nNetworking at Active Community of Real Estate Entrepreneurs (ACRE)\nA point often overlooked is networking. To begin with\, investors and others in the real estate profession attend real estate meetups and clubs\, which are excellent resources for lining up financing\, contractors\, and realtors for your flip. Meet our staff and customers at a National Real Estate Investors Association (REIA) event near you. \nNew to Real Estate Investing\nReal estate is competitive with seasoned investors. Are you changing your career? Are you a newbie? Do you have a Mentor\, coach\, or Trainer? Are you ready to find real estate with equity? If yes\, you have come to where many have arrived and are now successful real estate investors. \nActive Community of Real Estate Entrepreneurs (ACRE)\n\nFix and Flip Investor\nBrokers and Agents listing source\nWholesalers\nAttorneys growing their practices\nMany more ………….\n\n \n \n \n \n \nRead more
URL:https://foreclosuresdaily.com/event1/active-community-of-real-estate-entrepreneurs-acre-14/
LOCATION:ACRE of Pittsburgh\, 3579 Masonic Way\, Pittsburgh\, PA\, 15237\, United States
CATEGORIES:EVENTS
END:VEVENT
BEGIN:VEVENT
DTSTART;TZID=America/New_York:20241203T173000
DTEND;TZID=America/New_York:20241203T193000
DTSTAMP:20260420T192042
CREATED:20241121T114225Z
LAST-MODIFIED:20241121T114225Z
UID:75331-1733247000-1733254200@foreclosuresdaily.com
SUMMARY:Central Florida Realty Investors (CFRI)
DESCRIPTION: \n \n \nJoe MontagnaRepresentativeCentral Florida Realty Investors (CFRI)\n  \nWho are we?\nWe have been supplying the hottest Off-the-Retail-Grid-Real Estate Leads since 2004. Equally important\, many of our customers come by referral. Our products are real estate entering the wholesale market. Getting you first on the scene at warp speed with a real estate seller separates us from others. Doing the research will save you time and money so that you can focus on activities such as wholesaling\, rehabbing\, and flipping. Furthermore\, we gauge our success as a company by the success of our customers.  \nNetworking at Central Florida Realty Investors (CFRI)\nA point often overlooked is networking. To begin with\, investors and others in the real estate profession attend real estate meetups and clubs\, which are excellent resources for lining up financing\, contractors\, and realtors for your flip. Meet our staff and customers at a National Real Estate Investors Association (REIA) event near you. \nNew to Real Estate Investing\nReal estate is competitive with seasoned investors. Are you changing your career? Are you a newbie? Do you have a Mentor\, coach\, or Trainer? Are you ready to find real estate with equity? If yes\, you have come to where many have arrived and are now successful real estate investors. \nCentral Florida Realty Investors (CFRI)\n\nFix and Flip Investor\nBrokers and Agents listing source\nWholesalers\nAttorneys growing their practices\nMany more ………….\n\n \n \n \n \n \nRead more
URL:https://foreclosuresdaily.com/event1/central-florida-realty-investors-cfri-42/
LOCATION:Central Florida Realty Investors\, 2800 N Orange Ave\, ORLANDO\, FL\, 32804\, United States
CATEGORIES:EVENTS
END:VEVENT
BEGIN:VEVENT
DTSTART;TZID=America/New_York:20241203T180000
DTEND;TZID=America/New_York:20241203T190000
DTSTAMP:20260420T192042
CREATED:20240614T131749Z
LAST-MODIFIED:20241119T125219Z
UID:69085-1733248800-1733252400@foreclosuresdaily.com
SUMMARY:Meet our customer Andrew Litchfield
DESCRIPTION:[vc_row][vc_column][vc_column_text css=””] \n  \n  \nMeet our customer\, Andrew Litchfield. He has been working in all areas of real estate since age 19. Real estate is not only his career but also his true passion. \n[/vc_column_text][/vc_column][/vc_row][vc_row][vc_column][vc_column_text css=””]He owns Penny Investments\, a real estate development company based in Massachusetts that specializes in condo conversions\, fix-and-flips\, rentals\, and rezoning of underutilized properties. Andrew has purchased and sold well over $100M of real estate across hundreds of diverse projects. He also holds a real estate broker’s and an Unrestricted Construction Supervisors License. \nAndrew has recently become a mentor and coach to over 40 students in his formal one-on-one coaching program. \nEqually crucial in Andrew’s life is his passion for giving back. He is an active member of the board of Silver Lining Mentoring\, a youth foster care nonprofit. In addition to giving back\, Andrew loves spending time with his family\, traveling\, reading\, and golfing. \nDecember 3\, 2024 @ 6pm EST[/vc_column_text][/vc_column][/vc_row] \n\n\n\n\n       \n  \n     \n\n\n\n\n\n\n\n\n\n\n\n\n\n  First Name Please *  \n  Email   \n\n\n\n\n\n\n\n  Last Name *  \n    \n\n\n\n\n\n\n\n  Email Please *  \n  Email* EmailPleaseEmail   \n\n\n\n\n\n\n\n  MOBILE / TEXT *  \n  Email   \n\n\n\n\n\n\n\n  Referred? or do you have a discount code?  \n  Email* Website  \n\n\n\n\n     \n\n  Submit
URL:https://foreclosuresdaily.com/event1/meet-our-customer-andrew-litchfield/
LOCATION:Webinar\, 4604 49th Street N Suite 1017\, Saint Petersburg\, FL\, 33709\, United States
CATEGORIES:Webinar
ORGANIZER;CN="IT DEPT":MAILTO:https://foreclosuresdaily.com/event1/crush-probate-with-al-nicoletti-esq/
END:VEVENT
BEGIN:VEVENT
DTSTART;TZID=America/New_York:20241203T183000
DTEND;TZID=America/New_York:20241203T210000
DTSTAMP:20260420T192042
CREATED:20241121T115459Z
LAST-MODIFIED:20241121T115459Z
UID:75343-1733250600-1733259600@foreclosuresdaily.com
SUMMARY:Sarasota Estate Investors Association (SREIA)
DESCRIPTION: \n \n \n \nJoe MontagnaRepresentativeSarasota Estate Investors Association (SREIA) \n  \nWho are we?\nWe have been supplying the hottest Off-the-Retail-Grid-Real Estate Leads since 2004. Equally important\, many of our customers come by referral. Our products are real estate entering the wholesale market. Getting you first on the scene at warp speed with a real estate seller separates us from others. Doing the research will save you time and money so that you can focus on activities such as wholesaling\, rehabbing\, and flipping. Furthermore\, we gauge our success as a company by the success of our customers. Charles Blair-The Real Deal \nNetworking at Sarasota Estate Investors Association (SREIA)\nA point often overlooked is networking. To begin with\, investors and others in the real estate profession attend real estate meetups and clubs\, which are excellent resources for lining up financing\, contractors\, and realtors for your flip. Meet our staff and customers at a National Real Estate Investors Association (REIA) event near you. \nNew to Real Estate Investing\nIt is essential to realize real estate is competitive with seasoned investors. Are you changing your career? Are you a newbie? Have a Mentor or Coach or Trainer? Ready to find real estate with equity? If yes\, you have come to where many have arrived and are now successful real estate investors. \nSarasota Estate Investors Association (SREIA)\n\nFix and Flip Investor\nBrokers and Agents listing source\nWholesalers\nAttorneys growing their practices\nMany more ………….\n\n \n \n \n \n \nRead more
URL:https://foreclosuresdaily.com/event1/sarasota-estate-investors-association-sreia-46/
LOCATION:Sarasota Estate Investors Association\, 2401 Cattlemen Road\, Sarasota\, FL\, 34232\, United States
CATEGORIES:EVENTS
END:VEVENT
END:VCALENDAR