BEGIN:VCALENDAR
VERSION:2.0
PRODID:-//ProbatesDaily.com-ForeclosuresDaily.com - ECPv6.15.20//NONSGML v1.0//EN
CALSCALE:GREGORIAN
METHOD:PUBLISH
X-WR-CALNAME:ProbatesDaily.com-ForeclosuresDaily.com
X-ORIGINAL-URL:https://foreclosuresdaily.com
X-WR-CALDESC:Events for ProbatesDaily.com-ForeclosuresDaily.com
REFRESH-INTERVAL;VALUE=DURATION:PT1H
X-Robots-Tag:noindex
X-PUBLISHED-TTL:PT1H
BEGIN:VTIMEZONE
TZID:America/New_York
BEGIN:DAYLIGHT
TZOFFSETFROM:-0500
TZOFFSETTO:-0400
TZNAME:EDT
DTSTART:20240310T070000
END:DAYLIGHT
BEGIN:STANDARD
TZOFFSETFROM:-0400
TZOFFSETTO:-0500
TZNAME:EST
DTSTART:20241103T060000
END:STANDARD
BEGIN:DAYLIGHT
TZOFFSETFROM:-0500
TZOFFSETTO:-0400
TZNAME:EDT
DTSTART:20250309T070000
END:DAYLIGHT
BEGIN:STANDARD
TZOFFSETFROM:-0400
TZOFFSETTO:-0500
TZNAME:EST
DTSTART:20251102T060000
END:STANDARD
BEGIN:DAYLIGHT
TZOFFSETFROM:-0500
TZOFFSETTO:-0400
TZNAME:EDT
DTSTART:20260308T070000
END:DAYLIGHT
BEGIN:STANDARD
TZOFFSETFROM:-0400
TZOFFSETTO:-0500
TZNAME:EST
DTSTART:20261101T060000
END:STANDARD
END:VTIMEZONE
BEGIN:VEVENT
DTSTART;TZID=America/New_York:20250401T170000
DTEND;TZID=America/New_York:20250401T210000
DTSTAMP:20260420T114559
CREATED:20250327T175310Z
LAST-MODIFIED:20250327T175310Z
UID:82812-1743526800-1743541200@foreclosuresdaily.com
SUMMARY:Active Community of Real Estate Entrepreneurs (ACRE)
DESCRIPTION:  \nKadia LawrenceRepresentativeActive Community of Real Estate Entrepreneurs (ACRE) \nWho are we?\nWe have been supplying the hottest Off-the-Retail-Grid-Real Estate Leads since 2004. Equally important\, many of our customers come by referral. Our products are real estate entering the wholesale market. Getting you first on the scene at warp speed with a real estate seller separates us from others. Doing the research will save you time and money so that you can focus on activities such as wholesaling\, rehabbing\, and flipping. Furthermore\, we gauge our success as a company by the success of our customers.  \nNetworking at Active Community of Real Estate Entrepreneurs (ACRE)\nA point often overlooked is networking. To begin with\, investors and others in the real estate profession attend real estate meetups and clubs\, which are excellent resources for lining up financing\, contractors\, and realtors for your flip. Meet our staff and customers at a National Real Estate Investors Association (REIA) event near you. \nNew to Real Estate Investing\nReal estate is competitive with seasoned investors. Are you changing your career? Are you a newbie? Do you have a Mentor\, coach\, or Trainer? Are you ready to find real estate with equity? If yes\, you have come to where many have arrived and are now successful real estate investors. \nActive Community of Real Estate Entrepreneurs (ACRE)\n\nFix and Flip Investor\nBrokers and Agents listing source\nWholesalers\nAttorneys growing their practices\nMany more ………….\n\n \n \n \n \n \nRead more
URL:https://foreclosuresdaily.com/event1/active-community-of-real-estate-entrepreneurs-acre-18/
LOCATION:ACRE of Pittsburgh\, 3579 Masonic Way\, Pittsburgh\, PA\, 15237\, United States
CATEGORIES:EVENTS,Events and webinar
END:VEVENT
BEGIN:VEVENT
DTSTART;TZID=America/New_York:20250401T180000
DTEND;TZID=America/New_York:20250401T190000
DTSTAMP:20260420T114559
CREATED:20241220T004708Z
LAST-MODIFIED:20250403T113915Z
UID:75637-1743530400-1743534000@foreclosuresdaily.com
SUMMARY:Our customers use Marketing by Hand
DESCRIPTION:[vc_row][vc_column][vc_column_text css=””] \nReal Estate Deals! Marketing by Hand\nThe marketing by Hand webinar is a free registration event on April 1\, 2025\, at 6 p.m. EST. \nWendy Henderson and Jeff Rhodes of Marketing by Hand will show how and why Foreclosuresdaily.com has been one of the nation’s leading off-market real estate resources for investors. Will demonstrate that 100% human-hand-addressed envelopes positively affect open response rates. Cursive blue pen authentic mail pieces differentiate clients from other marketing techniques. A human handwritten letter or notecard is a very effective branding strategy. It is always ready to impress\, resulting in a higher conversion rate and lower marketing ROI. Marketing by Hand has established a foothold within the REI industry by creating dramatic results for investors hunting for new opportunities. ForeclosuresDaily subscribers use their mailing programs with intervals to maximize qualified prospects for marketing to off-market real estate. Learn why our customers use Marketing by Hand.\n[/vc_column_text][/vc_column][/vc_row][vc_row][vc_column width=”1/4″][vc_single_image image=”75742″ img_size=”medium” alignment=”center” onclick=”custom_link” css=”” link=”https://marketingbyhand.com/”][/vc_column][vc_column width=”1/4″][vc_single_image image=”75742″ img_size=”medium” alignment=”center” onclick=”custom_link” css=”” link=”https://marketingbyhand.com/”][/vc_column][vc_column width=”1/4″][vc_single_image image=”75742″ img_size=”medium” alignment=”center” onclick=”custom_link” css=”” link=”https://marketingbyhand.com/”][/vc_column][vc_column width=”1/4″][vc_single_image image=”75742″ img_size=”medium” alignment=”center” onclick=”custom_link” css=”” link=”https://marketingbyhand.com/”][/vc_column][/vc_row][vc_row][vc_column][vc_column_text]
URL:https://foreclosuresdaily.com/event1/our-customers-use-marketing-by-hand/
LOCATION:Webinar\, 4604 49th Street N Suite 1017\, Saint Petersburg\, FL\, 33709\, United States
CATEGORIES:Webinar
END:VEVENT
BEGIN:VEVENT
DTSTART;TZID=America/New_York:20250401T193000
DTEND;TZID=America/New_York:20250401T210000
DTSTAMP:20260420T114559
CREATED:20250327T180820Z
LAST-MODIFIED:20250327T180820Z
UID:82822-1743535800-1743541200@foreclosuresdaily.com
SUMMARY:Central Ohio Real Estate Entrepreneurs (COREE)
DESCRIPTION: \n \n \n \nMichael ReeseRepresentativeCentral Ohio Real Estate Entrepreneurs (COREE)  \n  \nWho are we?\nWe have been supplying the hottest Off-the-Retail-Grid-Real Estate Leads since 2004. Equally important\, many of our customers come by referral. Our products are real estate entering the wholesale market. Getting you first on the scene at warp speed with a real estate seller separates us from others. Doing the research will save you time and money so that you can focus on activities such as wholesaling\, rehabbing\, and flipping. Furthermore\, we gauge our success as a company by the success of our customers.  \nNetworking at Central Ohio Real Estate Entrepreneurs (COREE)\nA point often overlooked is networking. To begin with\, investors and others in the real estate profession attend real estate meetups and clubs\, which are excellent resources for lining up financing\, contractors\, and realtors for your flip. Meet our staff and customers at a National Real Estate Investors Association (REIA) event near you. \nNew to Real Estate Investing\nIt is essential to realize real estate is competitive with seasoned investors. Are you changing your career? Are you a newbie? Have a Mentor or Coach or Trainer? Ready to find real estate with equity? If yes\, you have come to where many have arrived and are now successful real estate investors. \nCentral Ohio Real Estate Entrepreneurs (COREE)\n\nFix and Flip Investor\nBrokers and Agents listing source\nWholesalers\nAttorneys growing their practices\nMany more ………….\n\n \n \n \n \n 
URL:https://foreclosuresdaily.com/event1/central-ohio-real-estate-entrepreneurs-coree-49/
LOCATION:Ohio Brewing Company\, 421 E 2nd Ave\, Columbus\, 43201\, United States
CATEGORIES:EVENTS
END:VEVENT
END:VCALENDAR