BEGIN:VCALENDAR
VERSION:2.0
PRODID:-//ProbatesDaily.com-ForeclosuresDaily.com - ECPv6.15.20//NONSGML v1.0//EN
CALSCALE:GREGORIAN
METHOD:PUBLISH
X-WR-CALNAME:ProbatesDaily.com-ForeclosuresDaily.com
X-ORIGINAL-URL:https://foreclosuresdaily.com
X-WR-CALDESC:Events for ProbatesDaily.com-ForeclosuresDaily.com
REFRESH-INTERVAL;VALUE=DURATION:PT1H
X-Robots-Tag:noindex
X-PUBLISHED-TTL:PT1H
BEGIN:VTIMEZONE
TZID:America/New_York
BEGIN:DAYLIGHT
TZOFFSETFROM:-0500
TZOFFSETTO:-0400
TZNAME:EDT
DTSTART:20240310T070000
END:DAYLIGHT
BEGIN:STANDARD
TZOFFSETFROM:-0400
TZOFFSETTO:-0500
TZNAME:EST
DTSTART:20241103T060000
END:STANDARD
BEGIN:DAYLIGHT
TZOFFSETFROM:-0500
TZOFFSETTO:-0400
TZNAME:EDT
DTSTART:20250309T070000
END:DAYLIGHT
BEGIN:STANDARD
TZOFFSETFROM:-0400
TZOFFSETTO:-0500
TZNAME:EST
DTSTART:20251102T060000
END:STANDARD
BEGIN:DAYLIGHT
TZOFFSETFROM:-0500
TZOFFSETTO:-0400
TZNAME:EDT
DTSTART:20260308T070000
END:DAYLIGHT
BEGIN:STANDARD
TZOFFSETFROM:-0400
TZOFFSETTO:-0500
TZNAME:EST
DTSTART:20261101T060000
END:STANDARD
END:VTIMEZONE
BEGIN:VEVENT
DTSTART;TZID=America/New_York:20250911T180000
DTEND;TZID=America/New_York:20250911T210000
DTSTAMP:20260420T025353
CREATED:20250823T110149Z
LAST-MODIFIED:20250823T113722Z
UID:94725-1757613600-1757624400@foreclosuresdaily.com
SUMMARY:Tampa Real Estate Investors Alliance (Tampa REIA)
DESCRIPTION:[vc_row][vc_column][vc_column_text css=””] \n\n  \nJoe MontagnaRepresentativeTampa Real Estate Investors Alliance (Tampa REIA) \n  \nWho \nWe have been supplying the hottest off-the-retail-grid real Estate Leads since 2004. Equally important\, many of our customers come from existing customers. Our products are real estate\, entering the wholesale market. Being first on the scene at warp speed with a real estate seller sets us apart from others. Conducting research will save you time and money\, allowing you to focus on activities such as wholesaling\, rehabbing\, and flipping. Furthermore\, we gauge our success as a company by the success of our customers. \nNetworking at Tampa Real Estate Investors Alliance (Tampa REIA)\nA point often overlooked is networking. To begin with\, investors and others in the real estate profession attend real estate meetups and clubs\, which are excellent resources for lining up financing\, contractors\, and realtors for your flip. Meet our staff and customers at a National Real Estate Investors Association (REIA) event near you. \nNew to Real Estate Investing\nIt is essential to recognize that real estate is highly competitive among seasoned investors. Are you changing your career? Are you a newbie? Do you have a mentor\, coach\, or Trainer? Ready to find real estate with equity? If so\, you have arrived at a place where many have come and are now successful real estate investors. \nTampa Real Estate Investors Alliance (Tampa REIA)\n\nFix and Flip Investor\nBrokers and Agents listing source\nWholesalers\nAttorneys growing their practices\nMany more ………….\n\n \n \n \n \n \nRead more \n  \n[/vc_column_text][/vc_column][/vc_row]
URL:https://foreclosuresdaily.com/event1/tampa-real-estate-investors-alliance-tampa-reia-53/
LOCATION:Tampa Real Estate Investors Alliance (Tampa REIA)\, 1200 N Westshore Blvd\, Tampa\, FL\, 33607\, United States
CATEGORIES:EVENTS
END:VEVENT
END:VCALENDAR