BEGIN:VCALENDAR
VERSION:2.0
PRODID:-//ProbatesDaily.com-ForeclosuresDaily.com - ECPv6.15.20//NONSGML v1.0//EN
CALSCALE:GREGORIAN
METHOD:PUBLISH
X-ORIGINAL-URL:https://foreclosuresdaily.com
X-WR-CALDESC:Events for ProbatesDaily.com-ForeclosuresDaily.com
REFRESH-INTERVAL;VALUE=DURATION:PT1H
X-Robots-Tag:noindex
X-PUBLISHED-TTL:PT1H
BEGIN:VTIMEZONE
TZID:America/New_York
BEGIN:DAYLIGHT
TZOFFSETFROM:-0500
TZOFFSETTO:-0400
TZNAME:EDT
DTSTART:20240310T070000
END:DAYLIGHT
BEGIN:STANDARD
TZOFFSETFROM:-0400
TZOFFSETTO:-0500
TZNAME:EST
DTSTART:20241103T060000
END:STANDARD
BEGIN:DAYLIGHT
TZOFFSETFROM:-0500
TZOFFSETTO:-0400
TZNAME:EDT
DTSTART:20250309T070000
END:DAYLIGHT
BEGIN:STANDARD
TZOFFSETFROM:-0400
TZOFFSETTO:-0500
TZNAME:EST
DTSTART:20251102T060000
END:STANDARD
BEGIN:DAYLIGHT
TZOFFSETFROM:-0500
TZOFFSETTO:-0400
TZNAME:EDT
DTSTART:20260308T070000
END:DAYLIGHT
BEGIN:STANDARD
TZOFFSETFROM:-0400
TZOFFSETTO:-0500
TZNAME:EST
DTSTART:20261101T060000
END:STANDARD
END:VTIMEZONE
BEGIN:VEVENT
DTSTART;TZID=America/New_York:20251118T180000
DTEND;TZID=America/New_York:20251118T190000
DTSTAMP:20260419T232254
CREATED:20250913T170357Z
LAST-MODIFIED:20251119T133403Z
UID:95332-1763488800-1763492400@foreclosuresdaily.com
SUMMARY:Untapped Deals: Turning Pre-Probate Leads into Real Estate Opportunities
DESCRIPTION:[vc_row][vc_column][vc_column_text css=””] \n  \n  \n  \n  \n  \nNancy Wallace-Laabs  & Kelcie Leka from the Money Making  Mamas webinar\, a free registration event. \nPre-probate leads are among the most potent sources of off-market deals. We’ll guide you through how to approach these sensitive situations with confidence and respect\, while still creating opportunities that benefit both families and investors. You’ll see how we help our students use ForeclosuresDaily leads to uncover properties before they hit the market and secure deals that others miss. \nNovember 18\, 2025 @ 6 pm-7 pm EST[/vc_column_text][/vc_column][/vc_row][vc_row][vc_column][vc_column_text][vc_row][vc_column width=”1/1″][vc_column_text] \n  \nWebinar replay 
URL:https://foreclosuresdaily.com/event1/untapped-deals-turning-pre-probate-leads-into-real-estate-opportunities/
LOCATION:Webinar\, 4604 49th Street N Suite 1017\, Saint Petersburg\, FL\, 33709\, United States
CATEGORIES:Webinar
ORGANIZER;CN="IT DEPT":MAILTO:https://foreclosuresdaily.com/event1/crush-probate-with-al-nicoletti-esq/
END:VEVENT
END:VCALENDAR