BEGIN:VCALENDAR
VERSION:2.0
PRODID:-//ProbatesDaily.com-ForeclosuresDaily.com - ECPv6.15.20//NONSGML v1.0//EN
CALSCALE:GREGORIAN
METHOD:PUBLISH
X-ORIGINAL-URL:https://foreclosuresdaily.com
X-WR-CALDESC:Events for ProbatesDaily.com-ForeclosuresDaily.com
REFRESH-INTERVAL;VALUE=DURATION:PT1H
X-Robots-Tag:noindex
X-PUBLISHED-TTL:PT1H
BEGIN:VTIMEZONE
TZID:America/New_York
BEGIN:DAYLIGHT
TZOFFSETFROM:-0500
TZOFFSETTO:-0400
TZNAME:EDT
DTSTART:20250309T070000
END:DAYLIGHT
BEGIN:STANDARD
TZOFFSETFROM:-0400
TZOFFSETTO:-0500
TZNAME:EST
DTSTART:20251102T060000
END:STANDARD
BEGIN:DAYLIGHT
TZOFFSETFROM:-0500
TZOFFSETTO:-0400
TZNAME:EDT
DTSTART:20260308T070000
END:DAYLIGHT
BEGIN:STANDARD
TZOFFSETFROM:-0400
TZOFFSETTO:-0500
TZNAME:EST
DTSTART:20261101T060000
END:STANDARD
BEGIN:DAYLIGHT
TZOFFSETFROM:-0500
TZOFFSETTO:-0400
TZNAME:EDT
DTSTART:20270314T070000
END:DAYLIGHT
BEGIN:STANDARD
TZOFFSETFROM:-0400
TZOFFSETTO:-0500
TZNAME:EST
DTSTART:20271107T060000
END:STANDARD
END:VTIMEZONE
BEGIN:VEVENT
DTSTART;TZID=America/New_York:20260120T180000
DTEND;TZID=America/New_York:20260120T190000
DTSTAMP:20260419T193811
CREATED:20251110T230612Z
LAST-MODIFIED:20251110T231316Z
UID:97752-1768932000-1768935600@foreclosuresdaily.com
SUMMARY:The Art of the Low Offer: How to Talk to Sellers Without Sounding Like You’re Lowballing
DESCRIPTION:[vc_row][vc_column][vc_column_text css=””] \n  \n  \n  \n  \n  \nThe Art of the Low Offer: How to Talk to Sellers Without Sounding Like You’re Lowballing. Nancy Wallace-Laabs  & Kelcie Leka from the Money Making  Mamas webinar\, a free registration event. \nNancy and Kelcie break down how investors use ForeclosuresDaily’s pre-probate\, divorce\, and foreclosure leads to find motivated sellers and secure properties at deep discounts — without sounding pushy. Learn to approach sellers with confidence\, build rapport\, and craft win-win offers. \nJanurary 20\, 2026 @ 6 pm-7 pm EST[/vc_column_text][/vc_column][/vc_row][vc_row][vc_column][vc_column_text][vc_row][vc_column width=”1/1″][vc_column_text] \n\n\n\n\n    \n\n  \n\n\n\n\n\n\n\n\n\n\n\n\n\nFirst Name *\n\n\nFirstName\n\n\n\n\n\n\n\n\nLast Name *\n\n\nLastNameEmail*\n\n\n\n\n\n\n\n\nEmail *\n\n\nEmail* EmailEmail*\n\n\n\n\n\n\n\n\nMobile/text *\n\n\n\n\n\n\n\n\n\n\n\nReferred? Discount Code?\n\n\nEmail \n\n\n\n\n\n\n\n\nSubmit
URL:https://foreclosuresdaily.com/event1/the-art-of-the-low-offer-how-to-talk-to-sellers-without-sounding-like-youre-lowballing/
LOCATION:Webinar\, 4604 49th Street N Suite 1017\, Saint Petersburg\, FL\, 33709\, United States
CATEGORIES:Webinar
ORGANIZER;CN="IT DEPT":MAILTO:https://foreclosuresdaily.com/event1/crush-probate-with-al-nicoletti-esq/
END:VEVENT
BEGIN:VEVENT
DTSTART;TZID=America/New_York:20260120T183000
DTEND;TZID=America/New_York:20260120T210000
DTSTAMP:20260419T193811
CREATED:20251126T115823Z
LAST-MODIFIED:20251126T115823Z
UID:98660-1768933800-1768942800@foreclosuresdaily.com
SUMMARY:Sarasota Estate Investors Association (SREIA)
DESCRIPTION:[vc_row][vc_column][vc_column_text css=””] \n\n \nJoe MontagnaSarasota Estate Investors Association (SREIA)\n  \nWho \nWe have been supplying the hottest off-the-retail-grid real Estate Leads since 2004. Equally important\, many of our customers come from existing customers. Our products are real estate\, entering the wholesale market. Being first on the scene at warp speed\, with a real estate seller’s set\, sets us apart from others. Conducting research will save you time and money\, allowing you to focus on activities such as wholesaling\, rehabbing\, and flipping. Furthermore\, we gauge our success as a company by our customers’ success. \nNetworking at Sarasota Estate Investors Association (SREIA)\nA point often overlooked is networking. To begin with\, investors and others in the real estate profession attend real estate meetups and clubs\, which are excellent resources for lining up financing\, contractors\, and realtors for your flip. Meet our staff and customers at a National Real Estate Investors Association (REIA) event near you. \nNew to Real Estate Investing\nIt is essential to recognize that real estate is highly competitive among seasoned investors. Are you changing your career? Are you a newbie? Do you have a mentor\, coach\, or Trainer? Ready to find real estate with equity? If so\, you have arrived at a place where many have come and are now successful real estate investors. \nSarasota Estate Investors Association (SREIA)\n\nFix and Flip Investor\nBrokers and Agents listing source\nWholesalers\nAttorneys growing their practices\nMany more ………….\n\n \n \n \n \n \nRead more \n  \n[/vc_column_text][/vc_column][/vc_row]
URL:https://foreclosuresdaily.com/event1/sarasota-estate-investors-association-sreia-58/
LOCATION:Sarasota Estate Investors Association\, 2401 Cattlemen Road\, Sarasota\, FL\, 34232\, United States
CATEGORIES:EVENTS
END:VEVENT
END:VCALENDAR