BEGIN:VCALENDAR
VERSION:2.0
PRODID:-//ProbatesDaily.com-ForeclosuresDaily.com - ECPv6.15.20//NONSGML v1.0//EN
CALSCALE:GREGORIAN
METHOD:PUBLISH
X-WR-CALNAME:ProbatesDaily.com-ForeclosuresDaily.com
X-ORIGINAL-URL:https://foreclosuresdaily.com
X-WR-CALDESC:Events for ProbatesDaily.com-ForeclosuresDaily.com
REFRESH-INTERVAL;VALUE=DURATION:PT1H
X-Robots-Tag:noindex
X-PUBLISHED-TTL:PT1H
BEGIN:VTIMEZONE
TZID:America/New_York
BEGIN:DAYLIGHT
TZOFFSETFROM:-0500
TZOFFSETTO:-0400
TZNAME:EDT
DTSTART:20250309T070000
END:DAYLIGHT
BEGIN:STANDARD
TZOFFSETFROM:-0400
TZOFFSETTO:-0500
TZNAME:EST
DTSTART:20251102T060000
END:STANDARD
BEGIN:DAYLIGHT
TZOFFSETFROM:-0500
TZOFFSETTO:-0400
TZNAME:EDT
DTSTART:20260308T070000
END:DAYLIGHT
BEGIN:STANDARD
TZOFFSETFROM:-0400
TZOFFSETTO:-0500
TZNAME:EST
DTSTART:20261101T060000
END:STANDARD
BEGIN:DAYLIGHT
TZOFFSETFROM:-0500
TZOFFSETTO:-0400
TZNAME:EDT
DTSTART:20270314T070000
END:DAYLIGHT
BEGIN:STANDARD
TZOFFSETFROM:-0400
TZOFFSETTO:-0500
TZNAME:EST
DTSTART:20271107T060000
END:STANDARD
END:VTIMEZONE
BEGIN:VEVENT
DTSTART;TZID=America/New_York:20260421T180000
DTEND;TZID=America/New_York:20260421T190000
DTSTAMP:20260421T015314
CREATED:20251112T191138Z
LAST-MODIFIED:20260408T150934Z
UID:98008-1776794400-1776798000@foreclosuresdaily.com
SUMMARY:Beyond Marketing Basics: Build a Simple System That Turns Real Estate Leads into Deals
DESCRIPTION:[vc_row][vc_column][vc_column_text css=””] \n  \n  \n  \n  \n  \nNancy Wallace-Laabs  & Kelcie Leka from the Money Making  Mamas webinar present Beyond Marketing Basics: Build a Simple System That Turns Real Estate Leads into Deals\, a free registration event. \nNancy and Kelcie show you how to organize ForeclosuresDaily leads\, set up an easy follow-up system\, and build a lead pipeline with low-cost tools. Learn what skip tracing means\, how to schedule outreach\, and sample follow-up scripts with the ForeclosuresDaily platform.  \n\n\n\n\n\n\n\n \n\n \n\n\n\n\n\n\n\n\n\n\n\n\n\nFirst Name *\n\n\n\n\n\n\n\n\n\n\n\nLast Name *\n\n\n\n\n\n\n\n\n\n\n\nEmail *\n\n\n\n\n\n\n\n\n\n\n\nMobile/text *\n\n\n\n\n\n\n\n\n\n\n\nReferred? Discount Code?\n\n\n\n\n\n\n\n\n\n\n\nSubmit
URL:https://foreclosuresdaily.com/event1/beyond-marketing-basics-build-a-simple-system-that-turns-real-estate-leads-into-deals/
LOCATION:Webinar\, 4604 49th Street N Suite 1017\, Saint Petersburg\, FL\, 33709\, United States
CATEGORIES:Webinar
ORGANIZER;CN="IT DEPT":MAILTO:https://foreclosuresdaily.com/event1/crush-probate-with-al-nicoletti-esq/
END:VEVENT
END:VCALENDAR