BEGIN:VCALENDAR
VERSION:2.0
PRODID:-//ProbatesDaily.com-ForeclosuresDaily.com - ECPv6.15.20//NONSGML v1.0//EN
CALSCALE:GREGORIAN
METHOD:PUBLISH
X-ORIGINAL-URL:https://foreclosuresdaily.com
X-WR-CALDESC:Events for ProbatesDaily.com-ForeclosuresDaily.com
REFRESH-INTERVAL;VALUE=DURATION:PT1H
X-Robots-Tag:noindex
X-PUBLISHED-TTL:PT1H
BEGIN:VTIMEZONE
TZID:America/Chicago
BEGIN:DAYLIGHT
TZOFFSETFROM:-0600
TZOFFSETTO:-0500
TZNAME:CDT
DTSTART:20230312T080000
END:DAYLIGHT
BEGIN:STANDARD
TZOFFSETFROM:-0500
TZOFFSETTO:-0600
TZNAME:CST
DTSTART:20231105T070000
END:STANDARD
BEGIN:DAYLIGHT
TZOFFSETFROM:-0600
TZOFFSETTO:-0500
TZNAME:CDT
DTSTART:20240310T080000
END:DAYLIGHT
BEGIN:STANDARD
TZOFFSETFROM:-0500
TZOFFSETTO:-0600
TZNAME:CST
DTSTART:20241103T070000
END:STANDARD
BEGIN:DAYLIGHT
TZOFFSETFROM:-0600
TZOFFSETTO:-0500
TZNAME:CDT
DTSTART:20250309T080000
END:DAYLIGHT
BEGIN:STANDARD
TZOFFSETFROM:-0500
TZOFFSETTO:-0600
TZNAME:CST
DTSTART:20251102T070000
END:STANDARD
END:VTIMEZONE
BEGIN:VTIMEZONE
TZID:America/Phoenix
BEGIN:STANDARD
TZOFFSETFROM:-0700
TZOFFSETTO:-0700
TZNAME:MST
DTSTART:20230101T000000
END:STANDARD
END:VTIMEZONE
BEGIN:VTIMEZONE
TZID:America/New_York
BEGIN:DAYLIGHT
TZOFFSETFROM:-0500
TZOFFSETTO:-0400
TZNAME:EDT
DTSTART:20230312T070000
END:DAYLIGHT
BEGIN:STANDARD
TZOFFSETFROM:-0400
TZOFFSETTO:-0500
TZNAME:EST
DTSTART:20231105T060000
END:STANDARD
BEGIN:DAYLIGHT
TZOFFSETFROM:-0500
TZOFFSETTO:-0400
TZNAME:EDT
DTSTART:20240310T070000
END:DAYLIGHT
BEGIN:STANDARD
TZOFFSETFROM:-0400
TZOFFSETTO:-0500
TZNAME:EST
DTSTART:20241103T060000
END:STANDARD
BEGIN:DAYLIGHT
TZOFFSETFROM:-0500
TZOFFSETTO:-0400
TZNAME:EDT
DTSTART:20250309T070000
END:DAYLIGHT
BEGIN:STANDARD
TZOFFSETFROM:-0400
TZOFFSETTO:-0500
TZNAME:EST
DTSTART:20251102T060000
END:STANDARD
END:VTIMEZONE
BEGIN:VEVENT
DTSTART;TZID=America/Chicago:20241111T170000
DTEND;TZID=America/Chicago:20241111T210000
DTSTAMP:20260421T172220
CREATED:20240923T182409Z
LAST-MODIFIED:20241027T145233Z
UID:74966-1731344400-1731358800@foreclosuresdaily.com
SUMMARY:Real Estate Investors of Nashville (REIN)
DESCRIPTION:  \n  \n  \n  \n  \n  \nDiana DeVilleReal Estate Investors of Nashville (REIN) \n \nWho are we?\nWe have been supplying the hottest Off-the-Retail-Grid-Real Estate Leads since 2004. Equally important\, many of our customers come by referral. Our products are real estate entering the wholesale market. Getting you first on the scene at warp speed with a real estate seller separates us from others. Doing the research will save you time and money so that you can focus on activities such as wholesaling\, rehabbing\, and flipping. Furthermore\, we gauge our success as a company by the success of our customers.  \nNetworking at Real Estate Investors of Nashville (REIN)\nA point often overlooked is networking. To begin with\, investors and others in the real estate profession attend real estate meetups and clubs\, which are excellent resources for lining up financing\, contractors\, and realtors for your flip. Meet our staff and customers at a National Real Estate Investors Association (REIA) event near you. \nNew to Real Estate Investing\nReal estate is competitive with seasoned investors. Are you changing your career? Are you a newbie? Do you have a Mentor\, coach\, or Trainer? Are you ready to find real estate with equity? If yes\, you have come to where many have arrived and are now successful real estate investors. \nReal Estate Investors of Nashville (REIN)\n\nFix and Flip Investor\nBrokers and Agents listing source\nWholesalers\nAttorneys growing their practices\nMany more ………….\n\n\nReal Estate Investors of Nashville REIN read more here\n 
URL:https://foreclosuresdaily.com/event1/real-estate-investors-of-nashville-rein-43/
LOCATION:Real Estate Investors of Nashville\, 5200 Franklin Pike\, Nashville\, TN\, 37220\, United States
CATEGORIES:EVENTS
END:VEVENT
BEGIN:VEVENT
DTSTART;TZID=America/Phoenix:20241111T171500
DTEND;TZID=America/Phoenix:20241111T204500
DTSTAMP:20260421T172220
CREATED:20241027T145339Z
LAST-MODIFIED:20241027T145339Z
UID:75269-1731345300-1731357900@foreclosuresdaily.com
SUMMARY:Arizona Real Estate Investors Association (AZREIA)
DESCRIPTION: \n \n \n \nMatt RicciRepresentativeArizona Real Estate Investors Association (AZREIA) \n  \nWho are we?\nWe have been supplying the hottest Off-the-Retail-Grid-Real Estate Leads since 2004. Equally important\, many of our customers come by referral. Our products are real estate entering the wholesale market. Getting you first on the scene at warp speed with a real estate seller separates us from others. Doing the research will save you time and money so that you can focus on activities such as wholesaling\, rehabbing\, and flipping. Furthermore\, we gauge our success as a company by the success of our customers.  \nNetworking at Arizona Real Estate Investors Association (AZREIA)\nA point often overlooked is networking. To begin with\, investors and others in the real estate profession attend real estate meetups and clubs\, which are excellent resources for lining up financing\, contractors\, and realtors for your flip. Meet our staff and customers at a National Real Estate Investors Association (REIA) event near you. \nNew to Real Estate Investing\nReal estate is competitive with seasoned investors. Are you changing your career? Are you a newbie? Do you have a mentor\, coach\, or trainer? Are you ready to find real estate with equity? If yes\, you have come to where many have arrived and are now successful real estate investors. \nArizona Real Estate Investors Association (AZREIA)\n\nFix and Flip Investor\nBrokers and Agents listing source\nWholesalers\nAttorneys growing their practices\nMany more ………….\n\n \n \n \n \n \nRead more
URL:https://foreclosuresdaily.com/event1/arizona-real-estate-investors-association-azreia-42/
LOCATION:Arizona Real Estate Investors Association (AZREIA)\, 8600 E Anderson Dr\, Scottsdale\, AZ\, 85255\, United States
CATEGORIES:EVENTS
END:VEVENT
BEGIN:VEVENT
DTSTART;TZID=America/New_York:20241112T173000
DTEND;TZID=America/New_York:20241112T193000
DTSTAMP:20260421T172220
CREATED:20241027T144850Z
LAST-MODIFIED:20241027T144850Z
UID:75263-1731432600-1731439800@foreclosuresdaily.com
SUMMARY:Central Florida Realty Investors (CFRI)
DESCRIPTION: \n \n \nJoe MontagnaRepresentativeCentral Florida Realty Investors (CFRI)\n  \nWho are we?\nWe have been supplying the hottest Off-the-Retail-Grid-Real Estate Leads since 2004. Equally important\, many of our customers come by referral. Our products are real estate entering the wholesale market. Getting you first on the scene at warp speed with a real estate seller separates us from others. Doing the research will save you time and money so that you can focus on activities such as wholesaling\, rehabbing\, and flipping. Furthermore\, we gauge our success as a company by the success of our customers.  \nNetworking at Central Florida Realty Investors (CFRI)\nA point often overlooked is networking. To begin with\, investors and others in the real estate profession attend real estate meetups and clubs\, which are excellent resources for lining up financing\, contractors\, and realtors for your flip. Meet our staff and customers at a National Real Estate Investors Association (REIA) event near you. \nNew to Real Estate Investing\nReal estate is competitive with seasoned investors. Are you changing your career? Are you a newbie? Do you have a Mentor\, coach\, or Trainer? Are you ready to find real estate with equity? If yes\, you have come to where many have arrived and are now successful real estate investors. \nCentral Florida Realty Investors (CFRI)\n\nFix and Flip Investor\nBrokers and Agents listing source\nWholesalers\nAttorneys growing their practices\nMany more ………….\n\n \n \n \n \n \nRead more
URL:https://foreclosuresdaily.com/event1/central-florida-realty-investors-cfri-41/
LOCATION:Central Florida Realty Investors\, 2800 N Orange Ave\, ORLANDO\, FL\, 32804\, United States
CATEGORIES:EVENTS
END:VEVENT
BEGIN:VEVENT
DTSTART;TZID=America/New_York:20241113T180000
DTEND;TZID=America/New_York:20241113T210000
DTSTAMP:20260421T172221
CREATED:20241027T145005Z
LAST-MODIFIED:20241027T145005Z
UID:75265-1731520800-1731531600@foreclosuresdaily.com
SUMMARY:Greater Dayton Real Estate Investors Association (GDREIA)
DESCRIPTION: \n \n \n \nMichael ReeseRepresentativeGreater Dayton Real Estate Investors Association (GDREIA) \n  \nWho are we?\nWe have been supplying the hottest Off-the-Retail-Grid-Real Estate Leads since 2004. Equally important\, many of our customers come by referral. Our products are real estate entering the wholesale market. Getting you first on the scene at warp speed with a real estate seller separates us from others. Doing the research will save you time and money so that you can focus on activities such as wholesaling\, rehabbing\, and flipping. Furthermore\, we gauge our success as a company by the success of our customers.  \nNetworking at Greater Dayton Real Estate Investors Association (GDREIA)\nA point often overlooked is networking. To begin with\, investors and others in the real estate profession attend real estate meetups and clubs\, which are excellent resources for lining up financing\, contractors\, and realtors for your flip. Meet our staff and customers at a National Real Estate Investors Association (REIA) event near you. \nNew to Real Estate Investing\nIt is essential to realize real estate is competitive with seasoned investors. Are you changing your career? Are you a newbie? Have a Mentor or Coach or Trainer? Ready to find real estate with equity? If yes\, you have come to where many have arrived and are now successful real estate investors. \nGreater Dayton Real Estate Investors Association (GDREIA)\n\nFix and Flip Investor\nBrokers and Agents listing source\nWholesalers\nAttorneys growing their practices\nMany more ………….\n\n \n \n \n \n \nRead more
URL:https://foreclosuresdaily.com/event1/greater-dayton-real-estate-investors-association-gdreia-44/
LOCATION:Greater Dayton Real Estate Investors Association (GDREIA)\, 7880 Washington Village Drive ·\, Dayton\, OH\, 45459\, United States
CATEGORIES:EVENTS
END:VEVENT
BEGIN:VEVENT
DTSTART;TZID=America/New_York:20241114T173000
DTEND;TZID=America/New_York:20241114T203000
DTSTAMP:20260421T172221
CREATED:20241027T145920Z
LAST-MODIFIED:20241027T145920Z
UID:75277-1731605400-1731616200@foreclosuresdaily.com
SUMMARY:Jacksonville Real Estate Investors Association (JAXREIA)
DESCRIPTION:  \n\n \n \nAngela HernandezAccounts managerJacksonville Real Estate Investors Association (JAXREIA) \n  \nWho are we?\nWe have been supplying the hottest Off-the-Retail-Grid-Real Estate Leads since 2004. Equally important\, many of our customers come by referral. Our products are real estate entering the wholesale market. Getting you first on the scene at warp speed with a real estate seller separates us from others. Doing the research will save you time and money so that you can focus on activities such as wholesaling\, rehabbing\, and flipping. Furthermore\, we gauge our success as a company by the success of our customers.  \nNetworking at Jacksonville Real Estate Investors Association (JAXREIA)\nA point often overlooked is networking. To begin with\, investors and others in the real estate profession attend real estate meetups and clubs\, which are excellent resources for lining up financing\, contractors\, and realtors for your flip. Meet our staff and customers at a National Real Estate Investors Association (REIA) event near you. \nNew Investors attend the Jacksonville Real Estate Investors Association. \nIt is essential to realize real estate is competitive with seasoned investors. Are you changing your career? Are you a newbie? Have a Mentor or Coach or Trainer? Ready to find real estate with equity? If yes\, you have come to where many have arrived and are now successful real estate investors. \nJacksonville Real Estate Investors Association (JAXREIA)\n\nFix and Flip Investor\nBrokers and Agents listing source\nWholesalers\nAttorneys growing their practices\nMany more ………….\n\n \n \n \n \n \nRead more \n 
URL:https://foreclosuresdaily.com/event1/jacksonville-real-estate-investors-association-jaxreia-45/
LOCATION:(JAXREIA) Marriott Hotel\, 4670 Salisbury Road\, Jacksonville\, FL\, 32256\, United States
CATEGORIES:EVENTS
END:VEVENT
BEGIN:VEVENT
DTSTART;TZID=America/New_York:20241114T173000
DTEND;TZID=America/New_York:20241114T203000
DTSTAMP:20260421T172221
CREATED:20241027T150151Z
LAST-MODIFIED:20241027T150151Z
UID:75281-1731605400-1731616200@foreclosuresdaily.com
SUMMARY:Greater Orlando Real Estate Investor Association (GOREIA)
DESCRIPTION:  \n\n \n \n \n \nJoe Montagna\, Marketing DirectorGreater Orlando Real Estate Investor Association (GOREIA)  \n  \nWho are we?\nWe have been supplying the hottest Off-the-Retail-Grid-Real Estate Leads since 2004. Equally important\, many of our customers come by referral. Our products are real estate entering the wholesale market. Getting you first on the scene at warp speed with a real estate seller separates us from others. Doing the research will save you time and money so that you can focus on activities such as wholesaling\, rehabbing\, and flipping. Furthermore\, we gauge our success as a company by the success of our customers.  \nNetworking at Greater Orlando Real Estate Investor Association (GOREIA)\nA point often overlooked is networking. To begin with\, investors and others in the real estate profession attend real estate meetups and clubs\, which are excellent resources for lining up financing\, contractors\, and realtors for your flip. Meet our staff and customers at a National Real Estate Investors Association (REIA) event near you. \nNew Investors attend the Greater Orlando Real Estate Investor Association.\nReal estate is competitive with seasoned investors. Are you changing your career? Are you a newbie? Do you have a mentor\, coach\, or trainer? Are you ready to find real estate with equity? If yes\, you have come to where many have arrived and are now successful real estate investors. \nGreater Orlando Real Estate Investor Association (GOREIA)\n\nFix and Flip Investor\nBrokers and Agents listing source\nWholesalers\nAttorneys growing their practices\nMany more ………….\n\n \n \n \n \n \nRead more \n 
URL:https://foreclosuresdaily.com/event1/greater-orlando-real-estate-investor-association-goreia-46/
LOCATION:(GOREIA)\, 1021 Douglas Ave\, Altamonte Springs\, FL\, 32714\, United States
CATEGORIES:EVENTS
END:VEVENT
BEGIN:VEVENT
DTSTART;TZID=America/New_York:20241114T173000
DTEND;TZID=America/New_York:20241114T210000
DTSTAMP:20260421T172221
CREATED:20241027T145446Z
LAST-MODIFIED:20241027T145446Z
UID:75271-1731605400-1731618000@foreclosuresdaily.com
SUMMARY:Central Ohio Real Estate Entrepreneurs (COREE)
DESCRIPTION: \n \n \n \nMichael ReeseRepresentativeCentral Ohio Real Estate Entrepreneurs (COREE)  \n  \nWho are we?\nWe have been supplying the hottest Off-the-Retail-Grid-Real Estate Leads since 2004. Equally important\, many of our customers come by referral. Our products are real estate entering the wholesale market. Getting you first on the scene at warp speed with a real estate seller separates us from others. Doing the research will save you time and money so that you can focus on activities such as wholesaling\, rehabbing\, and flipping. Furthermore\, we gauge our success as a company by the success of our customers.  \nNetworking at Central Ohio Real Estate Entrepreneurs (COREE)\nA point often overlooked is networking. To begin with\, investors and others in the real estate profession attend real estate meetups and clubs\, which are excellent resources for lining up financing\, contractors\, and realtors for your flip. Meet our staff and customers at a National Real Estate Investors Association (REIA) event near you. \nNew to Real Estate Investing\nIt is essential to realize real estate is competitive with seasoned investors. Are you changing your career? Are you a newbie? Have a Mentor or Coach or Trainer? Ready to find real estate with equity? If yes\, you have come to where many have arrived and are now successful real estate investors. \nCentral Ohio Real Estate Entrepreneurs (COREE)\n\nFix and Flip Investor\nBrokers and Agents listing source\nWholesalers\nAttorneys growing their practices\nMany more ………….\n\n \n \n \n \n 
URL:https://foreclosuresdaily.com/event1/central-ohio-real-estate-entrepreneurs-coree-44/
LOCATION:Ohio Brewing Company\, 421 E 2nd Ave\, Columbus\, 43201\, United States
CATEGORIES:EVENTS
END:VEVENT
BEGIN:VEVENT
DTSTART;TZID=America/New_York:20241114T180000
DTEND;TZID=America/New_York:20241114T210000
DTSTAMP:20260421T172221
CREATED:20241027T145136Z
LAST-MODIFIED:20241027T145136Z
UID:75267-1731607200-1731618000@foreclosuresdaily.com
SUMMARY:Tampa Real Estate Investors Alliance (Tampa REIA)
DESCRIPTION: \n \n \n \nTangie CousinsRepresentativeTampa Real Estate Investors Alliance (Tampa REIA) \n  \nWho are we?\nWe have been supplying the hottest Off-the-Retail-Grid-Real Estate Leads since 2004. Equally important\, many of our customers come by referral. Our products are real estate entering the wholesale market. Getting you first on the scene at warp speed with a real estate seller separates us from others. Doing the research will save you time and money so that you can focus on activities such as wholesaling\, rehabbing\, and flipping. Furthermore\, we gauge our success as a company by the success of our customers.  \nNetworking at Tampa Real Estate Investors Alliance (Tampa REIA)\nA point often overlooked is networking. To begin with\, investors and others in the real estate profession attend real estate meetups and clubs\, which are excellent resources for lining up financing\, contractors\, and realtors for your flip. Meet our staff and customers at a National Real Estate Investors Association (REIA) event near you. \nNew to Real Estate Investing\nIt is essential to realize real estate is competitive with seasoned investors. Are you changing your career? Are you a newbie? Have a Mentor or Coach or Trainer? Ready to find real estate with equity? If yes\, you have come to where many have arrived and are now successful real estate investors. \nTampa Real Estate Investors Alliance (Tampa REIA)\n\nFix and Flip Investor\nBrokers and Agents listing source\nWholesalers\nAttorneys growing their practices\nMany more ………….\n\n \n \n \n \n \nRead more
URL:https://foreclosuresdaily.com/event1/tampa-real-estate-investors-alliance-tampa-reia-43/
LOCATION:Tampa Real Estate Investors Alliance (Tampa REIA)\, 1200 N Westshore Blvd\, Tampa\, FL\, 33607\, United States
CATEGORIES:EVENTS
END:VEVENT
BEGIN:VEVENT
DTSTART;TZID=America/New_York:20241115T183000
DTEND;TZID=America/New_York:20241115T210000
DTSTAMP:20260421T172221
CREATED:20241027T145802Z
LAST-MODIFIED:20241027T145802Z
UID:75275-1731695400-1731704400@foreclosuresdaily.com
SUMMARY:Sarasota Estate Investors Association (SREIA)
DESCRIPTION: \n \n \n \nJoe MontagnaRepresentativeSarasota Estate Investors Association (SREIA) \n  \nWho are we?\nWe have been supplying the hottest Off-the-Retail-Grid-Real Estate Leads since 2004. Equally important\, many of our customers come by referral. Our products are real estate entering the wholesale market. Getting you first on the scene at warp speed with a real estate seller separates us from others. Doing the research will save you time and money so that you can focus on activities such as wholesaling\, rehabbing\, and flipping. Furthermore\, we gauge our success as a company by the success of our customers. Charles Blair-The Real Deal \nNetworking at Sarasota Estate Investors Association (SREIA)\nA point often overlooked is networking. To begin with\, investors and others in the real estate profession attend real estate meetups and clubs\, which are excellent resources for lining up financing\, contractors\, and realtors for your flip. Meet our staff and customers at a National Real Estate Investors Association (REIA) event near you. \nNew to Real Estate Investing\nIt is essential to realize real estate is competitive with seasoned investors. Are you changing your career? Are you a newbie? Have a Mentor or Coach or Trainer? Ready to find real estate with equity? If yes\, you have come to where many have arrived and are now successful real estate investors. \nSarasota Estate Investors Association (SREIA)\n\nFix and Flip Investor\nBrokers and Agents listing source\nWholesalers\nAttorneys growing their practices\nMany more ………….\n\n \n \n \n \n \nRead more
URL:https://foreclosuresdaily.com/event1/sarasota-estate-investors-association-sreia-45/
LOCATION:Sarasota Estate Investors Association\, 2401 Cattlemen Road\, Sarasota\, FL\, 34232\, United States
CATEGORIES:EVENTS
END:VEVENT
BEGIN:VEVENT
DTSTART;TZID=America/New_York:20241119T120000
DTEND;TZID=America/New_York:20241119T140000
DTSTAMP:20260421T172221
CREATED:20241027T150046Z
LAST-MODIFIED:20241027T150046Z
UID:75279-1732017600-1732024800@foreclosuresdaily.com
SUMMARY:Bradenton Real Estate Connection Group
DESCRIPTION: \n \n \n \nJoe MontagnaRepresentativeBradenton Real Estate Connection Group \n  \nWho are we?\nWe have been supplying the hottest Off-the-Retail-Grid-Real Estate Leads since 2004. Equally important\, many of our customers come by referral. Our products are real estate entering the wholesale market. Getting you first on the scene at warp speed with a real estate seller separates us from others. Doing the research will save you time and money so that you can focus on activities such as wholesaling\, rehabbing\, and flipping. Furthermore\, we gauge our success as a company by the success of our customers.  \nNetworking at Bradenton Real Estate Connection Group\nA point often overlooked is networking. Investors and others in the real estate profession attend real estate meetups and clubs\, which are excellent resources for lining up financing\, contractors\, and realtors for your flip. Meet our staff and customers at a National Real Estate Investors Association (REIA) event near you. \nNew to Real Estate Investing\nReal estate is competitive with seasoned investors. Are you changing your career? Are you a newbie? Do you have a mentor\, coach\, or trainer? Are you ready to find real estate with equity? If yes\, you have come to where many have arrived and are now successful real estate investors. \nBradenton Real Estate Connection Group\n\nFix and Flip Investor\nBrokers and Agents listing source\nWholesalers\nAttorneys growing their practices\nMany more ………….\n\n \n \n \n \n 
URL:https://foreclosuresdaily.com/event1/bradenton-real-estate-connection-group-46/
LOCATION:Bradenton Real Estate Connection Group\, 4307 Snead Island Rd\, Palmetto\, FL\, 34221\, United States
CATEGORIES:EVENTS
END:VEVENT
BEGIN:VEVENT
DTSTART;TZID=America/New_York:20241123T093000
DTEND;TZID=America/New_York:20241123T123000
DTSTAMP:20260421T172221
CREATED:20241027T150256Z
LAST-MODIFIED:20241027T150256Z
UID:75283-1732354200-1732365000@foreclosuresdaily.com
SUMMARY:The Real Deal (Charles Blair)
DESCRIPTION: \n \n \n \nTina HallMaryland Representative Charles Blair-The Real Deal\n  \nWho are we?\nWe have been supplying the hottest Off-the-Retail-Grid-Real Estate Leads since 2004. Equally important\, many of our customers come by referral. Our products are real estate entering the wholesale market. Getting you first on the scene at warp speed with a real estate seller separates us from others. Doing the research will save you time and money so that you can focus on activities such as wholesaling\, rehabbing\, and flipping. Furthermore\, we gauge our success as a company by the success of our customers. Charles Blair-The Real Deal \nNetworking Real Estate at Charles Blair-The Real Deal\nA point often overlooked is networking. Investors and others in the real estate profession attend real estate meetups and clubs\, which are excellent resources for lining up financing\, contractors\, and realtors for your flip. Meet our staff and customers at a National Real Estate Investors Association (REIA) event near you. \nNew to Real Estate Investing\nReal estate is competitive with seasoned investors. Are you changing your career? Are you a newbie? Do you have a mentor\, coach\, or trainer? Are you ready to find real estate with equity? If yes\, you have come to where many have arrived and are now successful real estate investors. \nCharles Blair-The Real Deal\n\nFix and Flip Investor\nBrokers and Agents listing source\nWholesalers\nAttorneys growing their practices\nMany more ………….\n\n \n \n \n \n 
URL:https://foreclosuresdaily.com/event1/the-real-deal-charles-blair-10/
LOCATION:Best Western Plus Hotel & Conference Center\, 5625 O'Donnell St\, Baltimore\, MD\, 21224\, United States
CATEGORIES:EVENTS
END:VEVENT
END:VCALENDAR