BEGIN:VCALENDAR
VERSION:2.0
PRODID:-//ProbatesDaily.com-ForeclosuresDaily.com - ECPv6.15.20//NONSGML v1.0//EN
CALSCALE:GREGORIAN
METHOD:PUBLISH
X-ORIGINAL-URL:https://foreclosuresdaily.com
X-WR-CALDESC:Events for ProbatesDaily.com-ForeclosuresDaily.com
REFRESH-INTERVAL;VALUE=DURATION:PT1H
X-Robots-Tag:noindex
X-PUBLISHED-TTL:PT1H
BEGIN:VTIMEZONE
TZID:America/New_York
BEGIN:DAYLIGHT
TZOFFSETFROM:-0500
TZOFFSETTO:-0400
TZNAME:EDT
DTSTART:20210314T070000
END:DAYLIGHT
BEGIN:STANDARD
TZOFFSETFROM:-0400
TZOFFSETTO:-0500
TZNAME:EST
DTSTART:20211107T060000
END:STANDARD
BEGIN:DAYLIGHT
TZOFFSETFROM:-0500
TZOFFSETTO:-0400
TZNAME:EDT
DTSTART:20220313T070000
END:DAYLIGHT
BEGIN:STANDARD
TZOFFSETFROM:-0400
TZOFFSETTO:-0500
TZNAME:EST
DTSTART:20221106T060000
END:STANDARD
BEGIN:DAYLIGHT
TZOFFSETFROM:-0500
TZOFFSETTO:-0400
TZNAME:EDT
DTSTART:20230312T070000
END:DAYLIGHT
BEGIN:STANDARD
TZOFFSETFROM:-0400
TZOFFSETTO:-0500
TZNAME:EST
DTSTART:20231105T060000
END:STANDARD
END:VTIMEZONE
BEGIN:VTIMEZONE
TZID:America/Chicago
BEGIN:DAYLIGHT
TZOFFSETFROM:-0600
TZOFFSETTO:-0500
TZNAME:CDT
DTSTART:20210314T080000
END:DAYLIGHT
BEGIN:STANDARD
TZOFFSETFROM:-0500
TZOFFSETTO:-0600
TZNAME:CST
DTSTART:20211107T070000
END:STANDARD
BEGIN:DAYLIGHT
TZOFFSETFROM:-0600
TZOFFSETTO:-0500
TZNAME:CDT
DTSTART:20220313T080000
END:DAYLIGHT
BEGIN:STANDARD
TZOFFSETFROM:-0500
TZOFFSETTO:-0600
TZNAME:CST
DTSTART:20221106T070000
END:STANDARD
BEGIN:DAYLIGHT
TZOFFSETFROM:-0600
TZOFFSETTO:-0500
TZNAME:CDT
DTSTART:20230312T080000
END:DAYLIGHT
BEGIN:STANDARD
TZOFFSETFROM:-0500
TZOFFSETTO:-0600
TZNAME:CST
DTSTART:20231105T070000
END:STANDARD
END:VTIMEZONE
BEGIN:VEVENT
DTSTART;TZID=America/New_York:20221215T173000
DTEND;TZID=America/New_York:20221215T203000
DTSTAMP:20260423T021720
CREATED:20221130T142919Z
LAST-MODIFIED:20221218T125903Z
UID:27280-1671125400-1671136200@foreclosuresdaily.com
SUMMARY:Jacksonville Real Estate Investors Association (JAXREIA)
DESCRIPTION:Angela Hernandez\, Accounts ManagerAngela@ForeclosuresDaily.com \nWho are we?\nSupplying the industry’s hottest off-market real estate leads. The majority of our customers have come by referral since 2004. Getting you first on the scene at warp speed with a seller of real estate is paramount. Raw data is cross-referenced and delivered in most states in one day\, giving you the advantage over a competitor. Our mission is to find real estate with actual equity from motivated sellers. Our products include Foreclosure\, Probate\, Pre-probate\, Inheritance\, Divorce\, Eviction\, and Code Enforcement. Us doing the research will save you time\, so you can focus on revenue-generating activities such as wholesaling\, rehabbing\, and flipping properties. Finding you a real estate deal is our mission. Furthermore\, we gauge our success as a company by the success of our customers at the Jacksonville Real Estate Investors Association. \nThe last thing you want is to market to people with old data. We’ve heard horror stories of wasting time and money only to discover the real estate sold months ago. Don’t let it happen to you. \nAre you competing for real estate?\nOff-market listings of homes may be for sale but are not on multiple listing services (MLS). Unfortunately\, circumstances such as Foreclosure and Probate motivate the seller to sell. There may be a financial dilemma or an owner looking to exit from the property quickly. Get wholesale Off-Retail-Market leads off the radar at Jacksonville Real Estate Investors Association. \nWho uses our product? \n\n\n\n\n\nFix and Flip investors\nBrokers and Agents listing source\nWholesalers\nAttorneys growing their practices\nMany more ………….\n\n\n\n\n\n\nRead more here\n  \n 
URL:https://foreclosuresdaily.com/event1/jacksonville-real-estate-investors-association-jaxreia-23/
LOCATION:(JAXREIA) Marriott Hotel\, 4670 Salisbury Road\, Jacksonville\, FL\, 32256\, United States
CATEGORIES:EVENTS
ATTACH;FMTTYPE=image/jpeg:https://foreclosuresdaily.com/wp-content/uploads/2018/01/Angela.jpg
END:VEVENT
BEGIN:VEVENT
DTSTART;TZID=America/Chicago:20221215T180000
DTEND;TZID=America/Chicago:20221215T210000
DTSTAMP:20260423T021720
CREATED:20221130T144914Z
LAST-MODIFIED:20221218T130452Z
UID:27286-1671127200-1671138000@foreclosuresdaily.com
SUMMARY:North Texas Real Estate Investors Association (NTAREI)
DESCRIPTION:Katrina DeitelhoffNorth Texas Real Estate Investors Association Texas Representative\nWho are we?\nSupplying the industry’s hottest off-market real estate leads. The majority of our customers have come by referral since 2004. Getting you first on the scene at warp speed with a seller of real estate is paramount. Raw data is cross-referenced and delivered in most states in one day\, giving you the advantage over a competitor. Our mission is to find real estate with actual equity from motivated sellers. Our products include Foreclosure\, Probate\, Pre-probate\, Inheritance\, Divorce\, Eviction\, and Code Enforcement. Us doing the research will save you time\, so you can focus on revenue-generating activities such as wholesaling\, rehabbing\, and flipping properties. Finding you a real estate deal is our mission. Furthermore\, we gauge our success as a company by the success of our customers at the North Texas Real Estate Investors Association. \nThe last thing you want is to market to people with old data. We’ve heard horror stories of wasting time and money only to discover the real estate sold months ago. Don’t let it happen to you. \nAre you competing for real estate?\nOff-market listings of homes may be for sale but are not on multiple listing services (MLS). Unfortunately\, circumstances such as Foreclosure and Probate motivate the seller to sell. There may be a financial dilemma or an owner looking to exit from the property quickly. Get wholesale Off-Retail-Market leads off the radar at North Texas Real Estate Investors Association. \nWho uses our product? \n\n\n\n\n\nFix and Flip investors\nBrokers and Agents listing source\nWholesalers\nAttorneys growing their practices\nMany more ………….\n\n\n\n\n\n\n Read more here\n\n\n\n\n\n\n\n\n\n 
URL:https://foreclosuresdaily.com/event1/north-texas-real-estate-investors-association-ntarei-24/
LOCATION:(NTAREI) Holiday Inn Express & Suites North Dallas at Preston\, 6055 Lyndon B Johnson Fwy\, Dallas\, TX\, 75240\, United States
CATEGORIES:EVENTS
ATTACH;FMTTYPE=image/jpeg:https://foreclosuresdaily.com/wp-content/uploads/2019/09/Katrina-Deitelhoff-e1613592766912.jpg
END:VEVENT
BEGIN:VEVENT
DTSTART;TZID=America/New_York:20221215T180000
DTEND;TZID=America/New_York:20221215T210000
DTSTAMP:20260423T021720
CREATED:20221130T145419Z
LAST-MODIFIED:20221218T130508Z
UID:27288-1671127200-1671138000@foreclosuresdaily.com
SUMMARY:Greater Orlando Real Estate Investor Association (GOREIA)
DESCRIPTION:Tangie CousinsGreater Orlando Real Estate Investor AssociationSenior Accounts Manager \nWho are we?\nSupplying the industry’s hottest off-market real estate leads. The majority of our customers have come by referral since 2004. Getting you first on the scene at warp speed with a seller of real estate is paramount. Raw data is cross-referenced and delivered in most states in one day\, giving you the advantage over a competitor. Our mission is to find real estate with actual equity from motivated sellers. Our products include Foreclosure\, Probate\, Pre-probate\, Inheritance\, Divorce\, Eviction\, and Code Enforcement. Us doing the research will save you time\, so you can focus on revenue-generating activities such as wholesaling\, rehabbing\, and flipping properties. Finding you a real estate deal is our mission. Furthermore\, we gauge our success as a company by the success of our customers at the Greater Orlando Real Estate Investor Association. \nThe last thing you want is to market to people with old data. We’ve heard horror stories of wasting time and money only to discover the real estate sold months ago. Don’t let it happen to you. \nAre you competing for real estate?\nOff-market listings of homes may be for sale but are not on multiple listing services (MLS). Unfortunately\, circumstances such as Foreclosure and Probate motivate the seller to sell. There may be a financial dilemma or an owner looking to exit from the property quickly. Get wholesale Off-Retail-Market leads off the radar at Greater Orlando Real Estate Investor Association. \nWho uses our product? \n\n\n\n\n\nFix and Flip investors\nBrokers and Agents listing source\nWholesalers\nAttorneys growing their practices\nMany more ………….\n\n\n\n\n\n\n\n\n\n\n\n\n\n\n\n \nRead more here
URL:https://foreclosuresdaily.com/event1/greater-orlando-real-estate-investor-association-goreia-23/
LOCATION:(GOREIA)\, 1021 Douglas Ave\, Altamonte Springs\, FL\, 32714\, United States
CATEGORIES:EVENTS
ATTACH;FMTTYPE=image/jpeg:https://foreclosuresdaily.com/wp-content/uploads/2019/01/Tangies-Updated-Pic-e1618919526388.jpg
END:VEVENT
BEGIN:VEVENT
DTSTART;TZID=America/New_York:20221215T180000
DTEND;TZID=America/New_York:20221215T210000
DTSTAMP:20260423T021720
CREATED:20221130T145653Z
LAST-MODIFIED:20221218T130730Z
UID:27291-1671127200-1671138000@foreclosuresdaily.com
SUMMARY:Diversified Real Estate Investors Group (DIG)
DESCRIPTION:Roseleen NealsDiversified Real Estate Investors GroupPennsylvania representative \nWho are we?\nSupplying the industry’s hottest off-market real estate leads. The majority of our customers have come by referral since 2004. Getting you first on the scene at warp speed with a seller of real estate is paramount. Raw data is cross-referenced and delivered in most states in one day\, giving you the advantage over a competitor. Our mission is to find real estate with actual equity from motivated sellers. Our products include Foreclosure\, Probate\, Pre-probate\, Inheritance\, Divorce\, Eviction\, and Code Enforcement. Us doing the research will save you time\, so you can focus on revenue-generating activities such as wholesaling\, rehabbing\, and flipping properties. Finding you a real estate deal is our mission. Furthermore\, we gauge our success as a company by the success of our customers at the Diversified Real Estate Investors Group. \nThe last thing you want is to market to people with old data. We’ve heard horror stories of wasting time and money only to discover the real estate sold months ago. Don’t let it happen to you. \nAre you competing for real estate?\nOff-market listings of homes may be for sale but are not on multiple listing services (MLS). Unfortunately\, circumstances such as Foreclosure and Probate motivate the seller to sell. There may be a financial dilemma or an owner looking to exit from the property quickly. Get wholesale Off-Retail-Market leads off the radar at Diversified Real Estate Investors Group. \nWho uses our product? \n\n\n\n\n\nFix and Flip investors\nBrokers and Agents listing source\nWholesalers\nAttorneys growing their practices\nMany more ………….\n\n\n\n\n\n\n\nRead more here
URL:https://foreclosuresdaily.com/event1/diversified-real-estate-investors-group-dig-23/
LOCATION:Whitemarsh Valley Event Center\, 493 S Bethlehem Pike\, Fort Washington\, PA\, 19034\, United States
CATEGORIES:EVENTS
ATTACH;FMTTYPE=image/jpeg:https://foreclosuresdaily.com/wp-content/uploads/2021/02/ROSELEEN-2-scaled-e1613588956577.jpg
END:VEVENT
BEGIN:VEVENT
DTSTART;TZID=America/New_York:20221215T183000
DTEND;TZID=America/New_York:20221215T210000
DTSTAMP:20260423T021720
CREATED:20221130T145931Z
LAST-MODIFIED:20221218T130940Z
UID:27293-1671129000-1671138000@foreclosuresdaily.com
SUMMARY:Tampa Bay Real Estate Investors Association (TBREIA)
DESCRIPTION:Tangie CousinsTampa Bay Real Estate Investors AssociationSenior Accounts Manager \nWho are we?\nSupplying the industry’s hottest off-market real estate leads. The majority of our customers have come by referral since 2004. Getting you first on the scene at warp speed with a seller of real estate is paramount. Raw data is cross-referenced and delivered in most states in one day\, giving you the advantage over a competitor. Our mission is to find real estate with actual equity from motivated sellers. Our products include Foreclosure\, Probate\, Pre-probate\, Inheritance\, Divorce\, Eviction\, and Code Enforcement. Us doing the research will save you time\, so you can focus on revenue-generating activities such as wholesaling\, rehabbing\, and flipping properties. Finding you a real estate deal is our mission. Furthermore\, we gauge our success as a company by the success of our customers at the Tampa Bay Real Estate Investors Association. \nThe last thing you want is to market to people with old data. We’ve heard horror stories of wasting time and money only to discover the real estate sold months ago. Don’t let it happen to you. \nAre you competing for real estate?\nOff-market listings of homes may be for sale but are not on multiple listing services (MLS). Unfortunately\, circumstances such as Foreclosure and Probate motivate the seller to sell. There may be a financial dilemma or an owner looking to exit from the property quickly. Get wholesale Off-Retail-Market leads off the radar at Tampa Bay Real Estate Investors Association. \nWho uses our product? \n\n\n\n\n\nFix and Flip investors\nBrokers and Agents listing source\nWholesalers\nAttorneys growing their practices\nMany more ………….\n\n\n\n\n\n\nRead more here
URL:https://foreclosuresdaily.com/event1/tampa-bay-real-estate-investors-association-tbreia-23/
LOCATION:The Godfrey Hotel\, 7700 W Courtney Campbell Causeway\, Tampa\, FL\, 33607\, United States
CATEGORIES:EVENTS
ATTACH;FMTTYPE=image/jpeg:https://foreclosuresdaily.com/wp-content/uploads/2019/01/Tangies-Updated-Pic-e1618919526388.jpg
END:VEVENT
END:VCALENDAR