BEGIN:VCALENDAR
VERSION:2.0
PRODID:-//ProbatesDaily.com-ForeclosuresDaily.com - ECPv6.15.20//NONSGML v1.0//EN
CALSCALE:GREGORIAN
METHOD:PUBLISH
X-ORIGINAL-URL:https://foreclosuresdaily.com
X-WR-CALDESC:Events for ProbatesDaily.com-ForeclosuresDaily.com
REFRESH-INTERVAL;VALUE=DURATION:PT1H
X-Robots-Tag:noindex
X-PUBLISHED-TTL:PT1H
BEGIN:VTIMEZONE
TZID:America/New_York
BEGIN:DAYLIGHT
TZOFFSETFROM:-0500
TZOFFSETTO:-0400
TZNAME:EDT
DTSTART:20220313T070000
END:DAYLIGHT
BEGIN:STANDARD
TZOFFSETFROM:-0400
TZOFFSETTO:-0500
TZNAME:EST
DTSTART:20221106T060000
END:STANDARD
BEGIN:DAYLIGHT
TZOFFSETFROM:-0500
TZOFFSETTO:-0400
TZNAME:EDT
DTSTART:20230312T070000
END:DAYLIGHT
BEGIN:STANDARD
TZOFFSETFROM:-0400
TZOFFSETTO:-0500
TZNAME:EST
DTSTART:20231105T060000
END:STANDARD
BEGIN:DAYLIGHT
TZOFFSETFROM:-0500
TZOFFSETTO:-0400
TZNAME:EDT
DTSTART:20240310T070000
END:DAYLIGHT
BEGIN:STANDARD
TZOFFSETFROM:-0400
TZOFFSETTO:-0500
TZNAME:EST
DTSTART:20241103T060000
END:STANDARD
END:VTIMEZONE
BEGIN:VTIMEZONE
TZID:America/Phoenix
BEGIN:STANDARD
TZOFFSETFROM:-0700
TZOFFSETTO:-0700
TZNAME:MST
DTSTART:20220101T000000
END:STANDARD
END:VTIMEZONE
BEGIN:VTIMEZONE
TZID:America/Los_Angeles
BEGIN:DAYLIGHT
TZOFFSETFROM:-0800
TZOFFSETTO:-0700
TZNAME:PDT
DTSTART:20220313T100000
END:DAYLIGHT
BEGIN:STANDARD
TZOFFSETFROM:-0700
TZOFFSETTO:-0800
TZNAME:PST
DTSTART:20221106T090000
END:STANDARD
BEGIN:DAYLIGHT
TZOFFSETFROM:-0800
TZOFFSETTO:-0700
TZNAME:PDT
DTSTART:20230312T100000
END:DAYLIGHT
BEGIN:STANDARD
TZOFFSETFROM:-0700
TZOFFSETTO:-0800
TZNAME:PST
DTSTART:20231105T090000
END:STANDARD
BEGIN:DAYLIGHT
TZOFFSETFROM:-0800
TZOFFSETTO:-0700
TZNAME:PDT
DTSTART:20240310T100000
END:DAYLIGHT
BEGIN:STANDARD
TZOFFSETFROM:-0700
TZOFFSETTO:-0800
TZNAME:PST
DTSTART:20241103T090000
END:STANDARD
END:VTIMEZONE
BEGIN:VEVENT
DTSTART;TZID=America/New_York:20230214T120000
DTEND;TZID=America/New_York:20230214T140000
DTSTAMP:20260422T210158
CREATED:20230124T180149Z
LAST-MODIFIED:20230124T180149Z
UID:29171-1676376000-1676383200@foreclosuresdaily.com
SUMMARY:Bradenton Real Estate Connection Group
DESCRIPTION:Joe MontagnaBradenton Real Estate Connection GroupMarketing Director \nWho are we?\nSupplying the industry’s hottest off-market real estate leads. The majority of our customers have come by referral since 2004. Getting you first on the scene at warp speed with a seller of real estate is paramount. Raw data is cross-referenced and delivered in most states in one day\, giving you the advantage over a competitor. Our mission is to find real estate with actual equity from motivated sellers. Our products include Foreclosure\, Probate\, Pre-probate\, Inheritance\, Divorce\, Eviction\, and Code Enforcement. Us doing the research will save you time\, so you can focus on revenue-generating activities such as wholesaling\, rehabbing\, and flipping properties. Finding you a real estate deal is our mission. Furthermore\, we gauge our success as a company by the success of our customers at the Bradenton Real Estate Connection Group. \nThe last thing you want is to market to people with old data. We’ve heard horror stories of wasting time and money only to discover the real estate sold months ago. Don’t let it happen to you. \nAre you competing for real estate?\nOff-market listings of homes may be for sale but are not on multiple listing services (MLS). Unfortunately\, circumstances such as Foreclosure and Probate motivate the seller to sell. There may be a financial dilemma or an owner looking to exit from the property quickly. Get wholesale Off-Retail-Market leads off the radar at Bradenton Real Estate Connection Group. \nWho uses our product? \n\n\n\n\n\nFix and Flip investors\nBrokers and Agents listing source\nWholesalers\nAttorneys growing their practices\nMany more ………….\n\n\n\n\n\n\n  \nRead more here\n\n\n\n\n\n\n\n\n\n 
URL:https://foreclosuresdaily.com/event1/bradenton-real-estate-connection-group-25/
LOCATION:Bradenton Real Estate Connection Group\, 4307 Snead Island Rd\, Palmetto\, FL\, 34221\, United States
CATEGORIES:EVENTS
ATTACH;FMTTYPE=image/jpeg:https://foreclosuresdaily.com/wp-content/uploads/2021/06/JOE.jpg
END:VEVENT
BEGIN:VEVENT
DTSTART;TZID=America/New_York:20230214T170000
DTEND;TZID=America/New_York:20230214T200000
DTSTAMP:20260422T210158
CREATED:20230124T184812Z
LAST-MODIFIED:20230124T184812Z
UID:29174-1676394000-1676404800@foreclosuresdaily.com
SUMMARY:Central Florida Realty Investors (CFRI)
DESCRIPTION:Tangie Cousins\,Senior Accounts Manager\nWho are we?\nSupplying the industry’s hottest off-market real estate leads. The majority of our customers have come by referral since 2004. Getting you first on the scene at warp speed with a seller of real estate is paramount. Raw data is cross-referenced and delivered in most states in one day\, giving you the advantage over a competitor. Our mission is to find real estate with actual equity from motivated sellers. Our products include Foreclosure\, Probate\, Pre-probate\, Inheritance\, Divorce\, Eviction\, and Code Enforcement. Us doing the research will save you time\, so you can focus on revenue-generating activities such as wholesaling\, rehabbing\, and flipping properties. Finding you a real estate deal is our mission. Furthermore\, we gauge our success as a company by the success of our customers at Central Florida Realty Investors. \nThe last thing you want is to market to people with old data. We’ve heard horror stories of wasting time and money only to discover the real estate sold months ago. Don’t let it happen to you. \nAre you competing for real estate?\nOff-market listings of homes may be for sale but are not on multiple listing services (MLS). Unfortunately\, circumstances such as Foreclosure and Probate motivate the seller to sell. There may be a financial dilemma or an owner looking to exit from the property quickly. Get wholesale Off-Retail-Market leads off the radar at Central Florida Realty Investors. \nWho uses our product? \n\n\n\n\n\nFix and Flip investors\nBrokers and Agents listing source\nWholesalers\nAttorneys growing their practices\nMany more ………….\n\n\n\n\n\n\n  \nRead more CFRI here \n\n\n\n\n\n\n\n\n\n 
URL:https://foreclosuresdaily.com/event1/central-florida-realty-investors-cfri-24/
LOCATION:Central Florida Realty Investors\, 2800 N Orange Ave\, ORLANDO\, FL\, 32804\, United States
CATEGORIES:EVENTS
ATTACH;FMTTYPE=image/jpeg:https://foreclosuresdaily.com/wp-content/uploads/2019/01/Tangies-Updated-Pic-e1618919526388.jpg
END:VEVENT
BEGIN:VEVENT
DTSTART;TZID=America/Phoenix:20230214T170000
DTEND;TZID=America/Phoenix:20230214T200000
DTSTAMP:20260422T210158
CREATED:20230124T185115Z
LAST-MODIFIED:20230124T185115Z
UID:29176-1676394000-1676404800@foreclosuresdaily.com
SUMMARY:Arizona Real Estate Investors Association (AZREIA) Tucson
DESCRIPTION:Matt RicciArizona Real Estate Investors Association TucsonTucson Representative\nWho are we?\nSupplying the industry’s hottest off-market real estate leads. The majority of our customers have come by referral since 2004. Getting you first on the scene at warp speed with a seller of real estate is paramount. Raw data is cross-referenced and delivered in most states in one day\, giving you the advantage over a competitor. Our mission is to find real estate with actual equity from motivated sellers. Our products include Foreclosure\, Probate\, Pre-probate\, Inheritance\, Divorce\, Eviction\, and Code Enforcement. Us doing the research will save you time\, so you can focus on revenue-generating activities such as wholesaling\, rehabbing\, and flipping properties. Finding you a real estate deal is our mission. Furthermore\, we gauge our success as a company by the success of our customers at the Arizona Real Estate Investors Association Tucson. \nThe last thing you want is to market to people with old data. We’ve heard horror stories of wasting time and money only to discover the real estate sold months ago. Don’t let it happen to you. \nAre you competing for real estate?\nOff-market listings of homes may be for sale but are not on multiple listing services (MLS). Unfortunately\, circumstances such as Foreclosure and Probate motivate the seller to sell. There may be a financial dilemma or an owner looking to exit from the property quickly. Get wholesale Off-Retail-Market leads off the radar at Arizona Real Estate Investors Association Tucson. \nWho uses our product? \n\n\n\n\n\nFix and Flip investors\nBrokers and Agents listing source\nWholesalers\nAttorneys growing their practices\nMany more ………….\n\n\n\n\n\n\nRead more here\n\n\n\n\n\n\n\n\n\n 
URL:https://foreclosuresdaily.com/event1/arizona-real-estate-investors-association-azreia-tucson-25/
LOCATION:Arizona Real Estate Investors Association (AZREIA) Tucson\, 2445 N. Tucson Blvd\, Tucson\, AZ\, 85716\, United States
CATEGORIES:EVENTS
ATTACH;FMTTYPE=image/jpeg:https://foreclosuresdaily.com/wp-content/uploads/2022/01/Matt-Ricci.jpg
END:VEVENT
BEGIN:VEVENT
DTSTART;TZID=America/Los_Angeles:20230214T183000
DTEND;TZID=America/Los_Angeles:20230214T210000
DTSTAMP:20260422T210158
CREATED:20230124T185431Z
LAST-MODIFIED:20230124T185431Z
UID:29178-1676399400-1676408400@foreclosuresdaily.com
SUMMARY:Prosperity Through Real Estate (PTRE)
DESCRIPTION:Nicolas ChaconProsperity Through Real EstateCalifornia Representative \nWho are we?\nSupplying the industry’s hottest off-market real estate leads. The majority of our customers have come by referral since 2004. Getting you first on the scene at warp speed with a seller of real estate is paramount. Raw data is cross-referenced and delivered in most states in one day\, giving you the advantage over a competitor. Our mission is to find real estate with actual equity from motivated sellers. Our products include Foreclosure\, Probate\, Pre-probate\, Inheritance\, Divorce\, Eviction\, and Code Enforcement. Us doing the research will save you time\, so you can focus on revenue-generating activities such as wholesaling\, rehabbing\, and flipping properties. Finding you a real estate deal is our mission. Furthermore\, we gauge our success as a company by the success of our customers at Prosperity Through Real Estate. \nThe last thing you want is to market to people with old data. We’ve heard horror stories of wasting time and money only to discover the real estate sold months ago. Don’t let it happen to you. \nAre you competing for real estate?\nOff-market listings of homes may be for sale but are not on multiple listing services (MLS). Unfortunately\, circumstances such as Foreclosure and Probate motivate the seller to sell. There may be a financial dilemma or an owner looking to exit from the property quickly. Get wholesale Off-Retail-Market leads off the radar at Prosperity Through Real Estate. \nWho uses our product? \n\n\n\n\n\nFix and Flip investors\nBrokers and Agents listing source\nWholesalers\nAttorneys growing their practices\nMany more ………….\n\n\n\n\n\n \n  \nRead more here\n\n\n\n\n\n\n\n\n\n 
URL:https://foreclosuresdaily.com/event1/prosperity-through-real-estate-ptre-24/
LOCATION:Prosperity Through Real Estate (PTRE)\, 2100 E Mariposa Ave\, El Segundo\, CA\, 90245\, United States
CATEGORIES:EVENTS
ATTACH;FMTTYPE=image/jpeg:https://foreclosuresdaily.com/wp-content/uploads/2021/01/Nicolas-Charon-Reia-Event-Web-Site.jpg
END:VEVENT
BEGIN:VEVENT
DTSTART;TZID=America/New_York:20230214T183000
DTEND;TZID=America/New_York:20230214T210000
DTSTAMP:20260422T210158
CREATED:20230124T185821Z
LAST-MODIFIED:20230124T185821Z
UID:29180-1676399400-1676408400@foreclosuresdaily.com
SUMMARY:Philadelphia Real Estate Investors Association (REIA)
DESCRIPTION:Roseleen NealsPhiladelphia Real Estate Investors Association Relations Representative \nWho are we?\nSupplying the industry’s hottest off-market real estate leads. The majority of our customers have come by referral since 2004. Getting you first on the scene at warp speed with a seller of real estate is paramount. Raw data is cross-referenced and delivered in most states in one day\, giving you the advantage over a competitor. Our mission is to find real estate with actual equity from motivated sellers. Our products include Foreclosure\, Probate\, Pre-probate\, Inheritance\, Divorce\, Eviction\, and Code Enforcement. Us doing the research will save you time\, so you can focus on revenue-generating activities such as wholesaling\, rehabbing\, and flipping properties. Finding you a real estate deal is our mission. Furthermore\, we gauge our success as a company by the success of our customers at the Philadelphia Real Estate Investors Association. \nThe last thing you want is to market to people with old data. We’ve heard horror stories of wasting time and money only to discover the real estate sold months ago. Don’t let it happen to you. \nAre you competing for real estate?\nOff-market listings of homes may be for sale but are not on multiple listing services (MLS). Unfortunately\, circumstances such as Foreclosure and Probate motivate the seller to sell. There may be a financial dilemma or an owner looking to exit from the property quickly. Get wholesale Off-Retail-Market leads off the radar at Philadelphia Real Estate Investors Association. \nWho uses our product? \n\n\n\n\n\nFix and Flip investors\nBrokers and Agents listing source\nWholesalers\nAttorneys growing their practices\nMany more ………….\n\n\n\n\n\n\nRead more here\n\n\n\n\n\n\n\n\n\n 
URL:https://foreclosuresdaily.com/event1/philadelphia-real-estate-investors-association-reia-25/
LOCATION:Philadelphia Real Estate Investors Association (REIA)\, 120 S 17th St\,\, Philadelphia\, PA\, 19103\, United States
CATEGORIES:EVENTS
ATTACH;FMTTYPE=image/jpeg:https://foreclosuresdaily.com/wp-content/uploads/2021/02/ROSELEEN-2-scaled-e1613588956577.jpg
END:VEVENT
END:VCALENDAR