BEGIN:VCALENDAR
VERSION:2.0
PRODID:-//ProbatesDaily.com-ForeclosuresDaily.com - ECPv6.15.20//NONSGML v1.0//EN
CALSCALE:GREGORIAN
METHOD:PUBLISH
X-ORIGINAL-URL:https://foreclosuresdaily.com
X-WR-CALDESC:Events for ProbatesDaily.com-ForeclosuresDaily.com
REFRESH-INTERVAL;VALUE=DURATION:PT1H
X-Robots-Tag:noindex
X-PUBLISHED-TTL:PT1H
BEGIN:VTIMEZONE
TZID:America/New_York
BEGIN:DAYLIGHT
TZOFFSETFROM:-0500
TZOFFSETTO:-0400
TZNAME:EDT
DTSTART:20250309T070000
END:DAYLIGHT
BEGIN:STANDARD
TZOFFSETFROM:-0400
TZOFFSETTO:-0500
TZNAME:EST
DTSTART:20251102T060000
END:STANDARD
BEGIN:DAYLIGHT
TZOFFSETFROM:-0500
TZOFFSETTO:-0400
TZNAME:EDT
DTSTART:20260308T070000
END:DAYLIGHT
BEGIN:STANDARD
TZOFFSETFROM:-0400
TZOFFSETTO:-0500
TZNAME:EST
DTSTART:20261101T060000
END:STANDARD
BEGIN:DAYLIGHT
TZOFFSETFROM:-0500
TZOFFSETTO:-0400
TZNAME:EDT
DTSTART:20270314T070000
END:DAYLIGHT
BEGIN:STANDARD
TZOFFSETFROM:-0400
TZOFFSETTO:-0500
TZNAME:EST
DTSTART:20271107T060000
END:STANDARD
END:VTIMEZONE
BEGIN:VEVENT
DTSTART;TZID=America/New_York:20260423T173000
DTEND;TZID=America/New_York:20260423T203000
DTSTAMP:20260419T173823
CREATED:20260328T193231Z
LAST-MODIFIED:20260328T193231Z
UID:100773-1776965400-1776976200@foreclosuresdaily.com
SUMMARY:Greater Orlando Real Estate Investor Association (GOREIA)
DESCRIPTION:  \n\n  \n  \nJoe MontagnaGreater Orlando Real Estate Investor Association (GOREIA)  \n  \nWho \nWe have been supplying the hottest off-the-retail-grid real Estate Leads since 2004. Equally important\, many of our customers come from existing customers. Our products are real estate and are entering the wholesale market. Being first on the scene at warp speed with a real estate seller sets us apart from others. Conducting research will save you time and money\, allowing you to focus on activities such as wholesaling\, rehabbing\, and flipping. Furthermore\, we gauge our success as a company by our customers’ success.  \nNetworking at Greater Orlando Real Estate Investor Association (GOREIA)\nA point often overlooked is networking. To begin with\, investors and others in the real estate profession attend real estate meetups and clubs\, which are excellent resources for lining up financing\, contractors\, and realtors for your flip. Meet our staff and customers at a National Real Estate Investors Association (REIA) event near you. \nNew Investors attend the Greater Orlando Real Estate Investor Association.\nReal estate is a competitive market for seasoned investors. Are you changing your career? Are you a newbie? Do you have a mentor\, coach\, or trainer? Are you ready to find real estate with equity? If so\, you have arrived at a place where many have come and are now successful real estate investors. \nGreater Orlando Real Estate Investor Association (GOREIA)\n\nFix and Flip Investor\nBrokers and Agents listing source\nWholesalers\nAttorneys growing their practices\nMany more ………….\n\n \n \n \n \n \nRead more \n 
URL:https://foreclosuresdaily.com/event1/greater-orlando-real-estate-investor-association-goreia-63/
LOCATION:(GOREIA)\, 1021 Douglas Ave\, Altamonte Springs\, FL\, 32714\, United States
CATEGORIES:EVENTS
END:VEVENT
BEGIN:VEVENT
DTSTART;TZID=America/New_York:20260425T093000
DTEND;TZID=America/New_York:20260425T123000
DTSTAMP:20260419T173823
CREATED:20260328T193327Z
LAST-MODIFIED:20260328T193327Z
UID:100775-1777109400-1777120200@foreclosuresdaily.com
SUMMARY:The Real Deal (Charles Blair)
DESCRIPTION: \nTina HallMaryland Representative Charles Blair-The Real Deal\n  \nWho\nWe have been supplying the hottest off-the-retail-grid real Estate Leads since 2004. Equally important\, many of our customers come from existing customers. Our products are real estate and are entering the wholesale market. Being first on the scene at warp speed with a real estate seller sets us apart from others. Conducting research will save you time and money\, allowing you to focus on activities such as wholesaling\, rehabbing\, and flipping. Furthermore\, we gauge our success as a company by our customers’ success. Charles Blair-The Real Deal \nNetworking Real Estate at Charles Blair-The Real Deal\nA point often overlooked is networking. Investors and others in the real estate profession attend real estate meetups and clubs\, which are excellent resources for lining up financing\, contractors\, and realtors for your flip. Meet our staff and customers at a National Real Estate Investors Association (REIA) event near you. \nNew to Real Estate Investing\nReal estate is a competitive market for seasoned investors. Are you changing your career? Are you a newbie? Do you have a mentor\, coach\, or trainer? Are you ready to find real estate with equity? If so\, you have arrived at a place where many have come and are now successful real estate investors. \nCharles Blair-The Real Deal\n\nFix and Flip Investor\nBrokers and Agents listing source\nWholesalers\nAttorneys growing their practices\nMany more ………….\n\n \n \n \n \n 
URL:https://foreclosuresdaily.com/event1/the-real-deal-charles-blair-27/
LOCATION:Best Western Plus Hotel & Conference Center\, 5625 O'Donnell St\, Baltimore\, MD\, 21224\, United States
CATEGORIES:EVENTS
END:VEVENT
END:VCALENDAR